FILENAME: O4711121.NES.727355.tif
QUADRANGLE_NAME: BENTON LAKE WEST
QUADRANT: NE
WEST_LONGITUDE: -111 26 15.00000
EAST_LONGITUDE: -111 22 30.00000
NORTH_LATITUDE: 47 45 0.00000
SOUTH_LATITUDE: 47 41 15.00000
PRODUCTION_DATE: 1997 8 1
RASTER_ORDER: LEFT_RIGHT/TOP_BOTTOM
BAND_ORGANIZATION: SINGLE FILE
BAND_CONTENT: BLACK&WHITE
BAND_CONTENT: UNDEFINED
BAND_CONTENT: UNDEFINED
BITS_PER_PIXEL: 8
SAMPLES_AND_LINES: 5384 7575
HORIZONTAL_DATUM: NAD83
HORIZONTAL_COORDINATE_SYSTEM: UTM
COORDINATE_ZONE: 12
HORIZONTAL_UNITS: METERS
HORIZONTAL_RESOLUTION: 1.00000
SECONDARY_HORIZONTAL_DATUM: NAD27
XY_ORIGIN: 466808.02800 5288906.54700
SECONDARY_XY_ORIGIN: 466867.25700 5288691.73300
NATION: US
STATE: MT
NW_QUAD_CORNER_XY: 467207.13600 5288607.04700
NE_QUAD_CORNER_XY: 471891.82400 5288582.46000
SE_QUAD_CORNERY_XY: 471858.18800 5281636.20000
SW_QUAD_CORNER_XY: 467167.89400 5281660.79300
SECONDARY_NW_QUAD_XY: 467206.11000 5288388.23600
SECONDARY_NE_QUAD_XY: 471890.94400 5288363.64700
SECONDARY_SE_QUAD_XY: 471857.30800 5281417.40700
SECONDARY_SW_QUAD_XY: 467166.86700 5281442.00000
RMSE_XY: 0.90000
IMAGE_SOURCE: BLACK AND WHITE FILM
SOURCE_IMAGE_ID: NAPP 8372 172
SOURCE_IMAGE_DATE: 1995 7 8
SOURCE_DEM_DATE: 1997 8 1
AGENCY: WESTERN MAPPING CENTER (WMC)
PRODUCER: Nies Mapping Group
PRODUCTION_SYSTEM: INTERGRAPH- ISPM,ISIR
COMPRESSION: UNDEFINED
STANDARD_VERSION: 1996 12
METADATA_DATE: 1997 12 28
DATA_FILE_SIZE: 40789184
BYTE_COUNT: 5384
