FILENAME: O4711121.NWS.727356.tif
QUADRANGLE_NAME: BENTON LAKE WEST
QUADRANT: NW
WEST_LONGITUDE: -111 30 0.00000
EAST_LONGITUDE: -111 26 15.00000
NORTH_LATITUDE: 47 45 0.00000
SOUTH_LATITUDE: 47 41 15.00000
PRODUCTION_DATE: 1997 8 1
RASTER_ORDER: LEFT_RIGHT/TOP_BOTTOM
BAND_ORGANIZATION: SINGLE FILE
BAND_CONTENT: BLACK&WHITE
BAND_CONTENT: UNDEFINED
BAND_CONTENT: UNDEFINED
BITS_PER_PIXEL: 8
SAMPLES_AND_LINES: 5390 7579
HORIZONTAL_DATUM: NAD83
HORIZONTAL_COORDINATE_SYSTEM: UTM
COORDINATE_ZONE: 12
HORIZONTAL_UNITS: METERS
HORIZONTAL_RESOLUTION: 1.00000
SECONDARY_HORIZONTAL_DATUM: NAD27
XY_ORIGIN: 462117.60900 5288934.91800
SECONDARY_XY_ORIGIN: 462176.89600 5288720.10800
NATION: US
STATE: MT
NW_QUAD_CORNER_XY: 462522.45200 5288635.41800
NE_QUAD_CORNER_XY: 467207.13600 5288607.04700
SE_QUAD_CORNERY_XY: 467167.89400 5281660.79300
SW_QUAD_CORNER_XY: 462477.60300 5281689.16900
SECONDARY_NW_QUAD_XY: 462521.27900 5288416.60700
SECONDARY_NE_QUAD_XY: 467206.11000 5288388.23600
SECONDARY_SE_QUAD_XY: 467166.86700 5281442.00000
SECONDARY_SW_QUAD_XY: 462476.43000 5281470.37700
RMSE_XY: 1.70000
IMAGE_SOURCE: BLACK AND WHITE FILM
SOURCE_IMAGE_ID: NAPP 8373 27
SOURCE_IMAGE_DATE: 1995 8 9
SOURCE_DEM_DATE: 1997 8 1
AGENCY: WESTERN MAPPING CENTER (WMC)
PRODUCER: Nies Mapping Group
PRODUCTION_SYSTEM: INTERGRAPH- ISPM,ISIR
COMPRESSION: UNDEFINED
STANDARD_VERSION: 1996 12
METADATA_DATE: 1997 12 28
DATA_FILE_SIZE: 40856200
BYTE_COUNT: 5390
