FILENAME: O4711120.NES.727372.tif
QUADRANGLE_NAME: VAUGHN NE
QUADRANT: NE
WEST_LONGITUDE: -111 33 45.00000
EAST_LONGITUDE: -111 30 0.00000
NORTH_LATITUDE: 47 45 0.00000
SOUTH_LATITUDE: 47 41 15.00000
PRODUCTION_DATE: 1997 8 2
RASTER_ORDER: LEFT_RIGHT/TOP_BOTTOM
BAND_ORGANIZATION: SINGLE FILE
BAND_CONTENT: BLACK&WHITE
BAND_CONTENT: UNDEFINED
BAND_CONTENT: UNDEFINED
BITS_PER_PIXEL: 8
SAMPLES_AND_LINES: 5396 7582
HORIZONTAL_DATUM: NAD83
HORIZONTAL_COORDINATE_SYSTEM: UTM
COORDINATE_ZONE: 12
HORIZONTAL_UNITS: METERS
HORIZONTAL_RESOLUTION: 1.00000
SECONDARY_HORIZONTAL_DATUM: NAD27
XY_ORIGIN: 457427.04200 5288967.07200
SECONDARY_XY_ORIGIN: 457486.47800 5288752.31400
NATION: US
STATE: MT
NW_QUAD_CORNER_XY: 457837.77200 5288667.57200
NE_QUAD_CORNER_XY: 462522.45200 5288635.41800
SE_QUAD_CORNERY_XY: 462477.60300 5281689.16900
SW_QUAD_CORNER_XY: 457787.31600 5281721.32900
SECONDARY_NW_QUAD_XY: 457836.45200 5288448.76200
SECONDARY_NE_QUAD_XY: 462521.27900 5288416.60700
SECONDARY_SE_QUAD_XY: 462476.43000 5281470.37700
SECONDARY_SW_QUAD_XY: 457785.99700 5281502.53800
RMSE_XY: 0.90000
IMAGE_SOURCE: BLACK AND WHITE FILM
SOURCE_IMAGE_ID: NAPP 8373 58
SOURCE_IMAGE_DATE: 1995 8 9
SOURCE_DEM_DATE: 1997 8 2
AGENCY: WESTERN MAPPING CENTER (WMC)
PRODUCER: Nies Mapping Group
PRODUCTION_SYSTEM: INTERGRAPH- ISPM,ISIR
COMPRESSION: UNDEFINED
STANDARD_VERSION: 1996 12
METADATA_DATE: 1997 12 30
DATA_FILE_SIZE: 40917868
BYTE_COUNT: 5396
