FILENAME: O4711120.SES.727374.tif
QUADRANGLE_NAME: VAUGHN NE
QUADRANT: SE
WEST_LONGITUDE: -111 33 45.00000
EAST_LONGITUDE: -111 30 0.00000
NORTH_LATITUDE: 47 41 15.00000
SOUTH_LATITUDE: 47 37 30.00000
PRODUCTION_DATE: 1997 8 2
RASTER_ORDER: LEFT_RIGHT/TOP_BOTTOM
BAND_ORGANIZATION: SINGLE FILE
BAND_CONTENT: BLACK&WHITE
BAND_CONTENT: UNDEFINED
BAND_CONTENT: UNDEFINED
BITS_PER_PIXEL: 8
SAMPLES_AND_LINES: 5402 7582
HORIZONTAL_DATUM: NAD83
HORIZONTAL_COORDINATE_SYSTEM: UTM
COORDINATE_ZONE: 12
HORIZONTAL_UNITS: METERS
HORIZONTAL_RESOLUTION: 1.00000
SECONDARY_HORIZONTAL_DATUM: NAD27
XY_ORIGIN: 457376.59800 5282020.82900
SECONDARY_XY_ORIGIN: 457436.06200 5281806.17700
NATION: US
STATE: MT
NW_QUAD_CORNER_XY: 457787.31600 5281721.32900
NE_QUAD_CORNER_XY: 462477.60300 5281689.16900
SE_QUAD_CORNERY_XY: 462432.79900 5274742.99600
SW_QUAD_CORNER_XY: 457736.91200 5274775.16200
SECONDARY_NW_QUAD_XY: 457785.99700 5281502.53800
SECONDARY_NE_QUAD_XY: 462476.43000 5281470.37700
SECONDARY_SE_QUAD_XY: 462431.62600 5274524.22400
SECONDARY_SW_QUAD_XY: 457735.59200 5274556.39100
RMSE_XY: 1.10000
IMAGE_SOURCE: BLACK AND WHITE FILM
SOURCE_IMAGE_ID: NAPP 8373 56
SOURCE_IMAGE_DATE: 1995 8 9
SOURCE_DEM_DATE: 1997 8 2
AGENCY: WESTERN MAPPING CENTER (WMC)
PRODUCER: Nies Mapping Group
PRODUCTION_SYSTEM: INTERGRAPH- ISPM,ISIR
COMPRESSION: UNDEFINED
STANDARD_VERSION: 1996 12
METADATA_DATE: 1997 12 30
DATA_FILE_SIZE: 40963366
BYTE_COUNT: 5402
