FILENAME: O4711120.SWS.727375.tif
QUADRANGLE_NAME: VAUGHN NE
QUADRANT: SW
WEST_LONGITUDE: -111 37 30.00000
EAST_LONGITUDE: -111 33 45.00000
NORTH_LATITUDE: 47 41 15.00000
SOUTH_LATITUDE: 47 37 30.00000
PRODUCTION_DATE: 1997 8 2
RASTER_ORDER: LEFT_RIGHT/TOP_BOTTOM
BAND_ORGANIZATION: SINGLE FILE
BAND_CONTENT: BLACK&WHITE
BAND_CONTENT: UNDEFINED
BAND_CONTENT: UNDEFINED
BITS_PER_PIXEL: 8
SAMPLES_AND_LINES: 5407 7586
HORIZONTAL_DATUM: NAD83
HORIZONTAL_COORDINATE_SYSTEM: UTM
COORDINATE_ZONE: 12
HORIZONTAL_UNITS: METERS
HORIZONTAL_RESOLUTION: 1.00000
SECONDARY_HORIZONTAL_DATUM: NAD27
XY_ORIGIN: 452680.44900 5282056.77300
SECONDARY_XY_ORIGIN: 452740.04800 5281842.18300
NATION: US
STATE: MT
NW_QUAD_CORNER_XY: 453097.03500 5281757.27300
NE_QUAD_CORNER_XY: 457787.31600 5281721.32900
SE_QUAD_CORNERY_XY: 457736.91200 5274775.16200
SW_QUAD_CORNER_XY: 453041.02900 5274811.11300
SECONDARY_NW_QUAD_XY: 453095.56800 5281538.48300
SECONDARY_NE_QUAD_XY: 457785.99700 5281502.53800
SECONDARY_SE_QUAD_XY: 457735.59200 5274556.39100
SECONDARY_SW_QUAD_XY: 453039.56300 5274592.34300
RMSE_XY: 0.60000
IMAGE_SOURCE: BLACK AND WHITE FILM
SOURCE_IMAGE_ID: NAPP 8373 79
SOURCE_IMAGE_DATE: 1995 8 9
SOURCE_DEM_DATE: 1997 8 2
AGENCY: WESTERN MAPPING CENTER (WMC)
PRODUCER: Nies Mapping Group
PRODUCTION_SYSTEM: INTERGRAPH- ISPM,ISIR
COMPRESSION: UNDEFINED
STANDARD_VERSION: 1996 12
METADATA_DATE: 1997 12 30
DATA_FILE_SIZE: 41022909
BYTE_COUNT: 5407
