FILENAME: O4711119.NWS.727385.tif
QUADRANGLE_NAME: POWER
QUADRANT: NW
WEST_LONGITUDE: -111 45 0.00000
EAST_LONGITUDE: -111 41 15.00000
NORTH_LATITUDE: 47 45 0.00000
SOUTH_LATITUDE: 47 41 15.00000
PRODUCTION_DATE: 1997 8 5
RASTER_ORDER: LEFT_RIGHT/TOP_BOTTOM
BAND_ORGANIZATION: SINGLE FILE
BAND_CONTENT: BLACK&WHITE
BAND_CONTENT: UNDEFINED
BAND_CONTENT: UNDEFINED
BITS_PER_PIXEL: 8
SAMPLES_AND_LINES: 5414 7594
HORIZONTAL_DATUM: NAD83
HORIZONTAL_COORDINATE_SYSTEM: UTM
COORDINATE_ZONE: 12
HORIZONTAL_UNITS: METERS
HORIZONTAL_RESOLUTION: 1.00000
SECONDARY_HORIZONTAL_DATUM: NAD27
XY_ORIGIN: 443355.36700 5289086.23000
SECONDARY_XY_ORIGIN: 443415.25600 5288871.62900
NATION: US
STATE: MT
NW_QUAD_CORNER_XY: 443783.76200 5288786.73000
NE_QUAD_CORNER_XY: 448468.42700 5288743.22800
SE_QUAD_CORNERY_XY: 448406.75800 5281797.00100
SW_QUAD_CORNER_XY: 443716.48700 5281840.51200
SECONDARY_NW_QUAD_XY: 443782.00200 5288567.92400
SECONDARY_NE_QUAD_XY: 448466.81300 5288524.42000
SECONDARY_SE_QUAD_XY: 448405.14500 5281578.21200
SECONDARY_SW_QUAD_XY: 443714.72700 5281621.72500
RMSE_XY: 1.40000
IMAGE_SOURCE: BLACK AND WHITE FILM
SOURCE_IMAGE_ID: NAPP 8373 126
SOURCE_IMAGE_DATE: 1995 8 9
SOURCE_DEM_DATE: 1997 8 5
AGENCY: WESTERN MAPPING CENTER (WMC)
PRODUCER: Nies Mapping Group
PRODUCTION_SYSTEM: INTERGRAPH- ISPM,ISIR
COMPRESSION: UNDEFINED
STANDARD_VERSION: 1996 12
METADATA_DATE: 1997 12 30
DATA_FILE_SIZE: 41119330
BYTE_COUNT: 5414
