FILENAME: O4711118.NES.727396.tif
QUADRANGLE_NAME: GREENFIELD
QUADRANT: NE
WEST_LONGITUDE: -111 48 45.00000
EAST_LONGITUDE: -111 45 0.00000
NORTH_LATITUDE: 47 45 0.00000
SOUTH_LATITUDE: 47 41 15.00000
PRODUCTION_DATE: 1997 8 5
RASTER_ORDER: LEFT_RIGHT/TOP_BOTTOM
BAND_ORGANIZATION: SINGLE FILE
BAND_CONTENT: BLACK&WHITE
BAND_CONTENT: UNDEFINED
BAND_CONTENT: UNDEFINED
BITS_PER_PIXEL: 8
SAMPLES_AND_LINES: 5419 7598
HORIZONTAL_DATUM: NAD83
HORIZONTAL_COORDINATE_SYSTEM: UTM
COORDINATE_ZONE: 12
HORIZONTAL_UNITS: METERS
HORIZONTAL_RESOLUTION: 1.00000
SECONDARY_HORIZONTAL_DATUM: NAD27
XY_ORIGIN: 438664.76800 5289133.51600
SECONDARY_XY_ORIGIN: 438724.86600 5288918.96900
NATION: US
STATE: MT
NW_QUAD_CORNER_XY: 439099.10400 5288834.01600
NE_QUAD_CORNER_XY: 443783.76200 5288786.73000
SE_QUAD_CORNERY_XY: 443716.48700 5281840.51200
SW_QUAD_CORNER_XY: 439026.22200 5281887.80800
SECONDARY_NW_QUAD_XY: 439097.19800 5288615.21200
SECONDARY_NE_QUAD_XY: 443782.00200 5288567.92400
SECONDARY_SE_QUAD_XY: 443714.72700 5281621.72500
SECONDARY_SW_QUAD_XY: 439024.31600 5281669.02200
RMSE_XY: 0.80000
IMAGE_SOURCE: BLACK AND WHITE FILM
SOURCE_IMAGE_ID: NAPP 8373 195
SOURCE_IMAGE_DATE: 1995 8 9
SOURCE_DEM_DATE: 1997 8 5
AGENCY: WESTERN MAPPING CENTER (WMC)
PRODUCER: Nies Mapping Group
PRODUCTION_SYSTEM: INTERGRAPH- ISPM,ISIR
COMPRESSION: UNDEFINED
STANDARD_VERSION: 1996 12
METADATA_DATE: 1997 12 30
DATA_FILE_SIZE: 41178981
BYTE_COUNT: 5419
