FILENAME: O4711118.SWS.727399.tif
QUADRANGLE_NAME: GREENFIELD
QUADRANT: SW
WEST_LONGITUDE: -111 52 30.00000
EAST_LONGITUDE: -111 48 45.00000
NORTH_LATITUDE: 47 41 15.00000
SOUTH_LATITUDE: 47 37 30.00000
PRODUCTION_DATE: 1997 8 5
RASTER_ORDER: LEFT_RIGHT/TOP_BOTTOM
BAND_ORGANIZATION: SINGLE FILE
BAND_CONTENT: BLACK&WHITE
BAND_CONTENT: UNDEFINED
BAND_CONTENT: UNDEFINED
BITS_PER_PIXEL: 8
SAMPLES_AND_LINES: 5431 7602
HORIZONTAL_DATUM: NAD83
HORIZONTAL_COORDINATE_SYSTEM: UTM
COORDINATE_ZONE: 12
HORIZONTAL_UNITS: METERS
HORIZONTAL_RESOLUTION: 1.00000
SECONDARY_HORIZONTAL_DATUM: NAD27
XY_ORIGIN: 433895.81200 5282238.38800
SECONDARY_XY_ORIGIN: 433956.06600 5282024.02900
NATION: US
STATE: MT
NW_QUAD_CORNER_XY: 434335.96400 5281938.88800
NE_QUAD_CORNER_XY: 439026.22200 5281887.80800
SE_QUAD_CORNERY_XY: 438953.41300 5274941.67400
SW_QUAD_CORNER_XY: 434257.55300 5274992.76400
SECONDARY_NW_QUAD_XY: 434333.91100 5281720.10400
SECONDARY_NE_QUAD_XY: 439024.31600 5281669.02200
SECONDARY_SE_QUAD_XY: 438951.50700 5274722.90800
SECONDARY_SW_QUAD_XY: 434255.50000 5274774.00000
RMSE_XY: 1.20000
IMAGE_SOURCE: BLACK AND WHITE FILM
SOURCE_IMAGE_ID: NAPP 8373 174
SOURCE_IMAGE_DATE: 1995 8 9
SOURCE_DEM_DATE: 1997 8 5
AGENCY: WESTERN MAPPING CENTER (WMC)
PRODUCER: Nies Mapping Group
PRODUCTION_SYSTEM: INTERGRAPH- ISPM,ISIR
COMPRESSION: UNDEFINED
STANDARD_VERSION: 1996 12
METADATA_DATE: 1997 12 30
DATA_FILE_SIZE: 41291893
BYTE_COUNT: 5431
