FILENAME: O4711117.SWS.727427.tif
QUADRANGLE_NAME: CLEIV
QUADRANT: SW
WEST_LONGITUDE: -112 0 0.00000
EAST_LONGITUDE: -111 56 15.00000
NORTH_LATITUDE: 47 41 15.00000
SOUTH_LATITUDE: 47 37 30.00000
PRODUCTION_DATE: 1997 8 11
RASTER_ORDER: LEFT_RIGHT/TOP_BOTTOM
BAND_ORGANIZATION: SINGLE FILE
BAND_CONTENT: BLACK&WHITE
BAND_CONTENT: UNDEFINED
BAND_CONTENT: UNDEFINED
BITS_PER_PIXEL: 8
SAMPLES_AND_LINES: 5443 7609
HORIZONTAL_DATUM: NAD83
HORIZONTAL_COORDINATE_SYSTEM: UTM
COORDINATE_ZONE: 12
HORIZONTAL_UNITS: METERS
HORIZONTAL_RESOLUTION: 1.00000
SECONDARY_HORIZONTAL_DATUM: NAD27
XY_ORIGIN: 424503.48800 5282351.90000
SECONDARY_XY_ORIGIN: 424564.11700 5282137.64300
NATION: US
STATE: MT
NW_QUAD_CORNER_XY: 424955.47000 5282052.40000
NE_QUAD_CORNER_XY: 429645.71300 5281993.75200
SE_QUAD_CORNERY_XY: 429561.70100 5275047.63900
SW_QUAD_CORNER_XY: 424865.85600 5275106.29900
SECONDARY_NW_QUAD_XY: 424953.12300 5281833.61900
SECONDARY_NE_QUAD_XY: 429643.51300 5281774.96900
SECONDARY_SE_QUAD_XY: 429559.50100 5274828.87600
SECONDARY_SW_QUAD_XY: 424863.51000 5274887.53800
RMSE_XY: 1.60000
IMAGE_SOURCE: BLACK AND WHITE FILM
SOURCE_IMAGE_ID: NAPP 8373 261
SOURCE_IMAGE_DATE: 1995 8 9
SOURCE_DEM_DATE: 1997 8 11
AGENCY: WESTERN MAPPING CENTER (WMC)
PRODUCER: Nies Mapping Group
PRODUCTION_SYSTEM: INTERGRAPH- ISPM,ISIR
COMPRESSION: UNDEFINED
STANDARD_VERSION: 1996 12
METADATA_DATE: 1997 12 30
DATA_FILE_SIZE: 41421230
BYTE_COUNT: 5443
