FILENAME: O4711116.NES.1078198.tif
QUADRANGLE_NAME: ANTELOPE LAKE
QUADRANT: NE
WEST_LONGITUDE: -111 3 45.00000
EAST_LONGITUDE: -111 0 0.00000
NORTH_LATITUDE: 47 52 30.00000
SOUTH_LATITUDE: 47 48 45.00000
PRODUCTION_DATE: 2000 5 8
RASTER_ORDER: LEFT_RIGHT/TOP_BOTTOM
BAND_ORGANIZATION: SINGLE FILE
BAND_CONTENT: BLACK&WHITE
BAND_CONTENT: UNDEFINED
BAND_CONTENT: UNDEFINED
BITS_PER_PIXEL: 8
SAMPLES_AND_LINES: 5341 7556
HORIZONTAL_DATUM: NAD83
HORIZONTAL_COORDINATE_SYSTEM: UTM
COORDINATE_ZONE: 12
HORIZONTAL_UNITS: METERS
HORIZONTAL_RESOLUTION: 1.00000
SECONDARY_HORIZONTAL_DATUM: NAD27
XY_ORIGIN: 494960.00000 5302710.00000
SECONDARY_XY_ORIGIN: 495018.92300 5302494.84800
NATION: US
NATION: "SCIENCE
STATE: MT
NW_QUAD_CORNER_XY: 495326.53000 5302409.03600
NE_QUAD_CORNER_XY: 500000.00000 5302407.14500
SE_QUAD_CORNERY_XY: 500000.00000 5295460.72000
SW_QUAD_CORNER_XY: 495320.91300 5295462.61100
SECONDARY_NW_QUAD_XY: 495326.38300 5302190.18600
SECONDARY_NE_QUAD_XY: 500000.00000 5302188.29600
SECONDARY_SE_QUAD_XY: 500000.00000 5295241.88700
SECONDARY_SW_QUAD_XY: 495320.76600 5295243.77800
RMSE_XY: 1.10000
IMAGE_SOURCE: BLACK AND WHITE FILM
SOURCE_IMAGE_ID: NAPP 8372 026
SOURCE_IMAGE_DATE: 1995 07 08
SOURCE_IMAGE_ID: NAPP 8372 025
SOURCE_IMAGE_DATE: 1995 07 08
SOURCE_IMAGE_ID: NAPP 8372 027
SOURCE_IMAGE_DATE: 1995 07 08
SOURCE_DEM_DATE: 1982 00 00
AGENCY: WESTERN MAPPING CENTER (WMC)
PRODUCER: UNDEFINED
PRODUCTION_SYSTEM: GIS/MAGIC
COMPRESSION: UNDEFINED
STANDARD_VERSION: 1996 12
METADATA_DATE: 2000 06 02
DATA_FILE_SIZE: 40361937
BYTE_COUNT: 5341
