FILENAME: O4711116.SWS.1078201.tif
QUADRANGLE_NAME: ANTELOPE LAKE
QUADRANT: SW
WEST_LONGITUDE: -111 7 30.00000
EAST_LONGITUDE: -111 3 45.00000
NORTH_LATITUDE: 47 48 45.00000
SOUTH_LATITUDE: 47 45 0.00000
PRODUCTION_DATE: 2000 5 8
RASTER_ORDER: LEFT_RIGHT/TOP_BOTTOM
BAND_ORGANIZATION: SINGLE FILE
BAND_CONTENT: BLACK&WHITE
BAND_CONTENT: UNDEFINED
BAND_CONTENT: UNDEFINED
BITS_PER_PIXEL: 8
SAMPLES_AND_LINES: 5352 7559
HORIZONTAL_DATUM: NAD83
HORIZONTAL_COORDINATE_SYSTEM: UTM
COORDINATE_ZONE: 12
HORIZONTAL_UNITS: METERS
HORIZONTAL_RESOLUTION: 1.00000
SECONDARY_HORIZONTAL_DATUM: NAD27
XY_ORIGIN: 490270.00000 5295769.00000
SECONDARY_XY_ORIGIN: 490328.98400 5295553.99200
NATION: US
NATION: "SCIENCE
STATE: MT
NW_QUAD_CORNER_XY: 490641.82600 5295468.28300
NE_QUAD_CORNER_XY: 495320.91300 5295462.61100
SE_QUAD_CORNERY_XY: 495315.30100 5288516.26200
SW_QUAD_CORNER_XY: 490630.60200 5288521.93600
SECONDARY_NW_QUAD_XY: 490641.53200 5295249.45100
SECONDARY_NE_QUAD_XY: 495320.76600 5295243.77800
SECONDARY_SE_QUAD_XY: 495315.15400 5288297.44700
SECONDARY_SW_QUAD_XY: 490630.30900 5288303.12100
RMSE_XY: 1.00000
IMAGE_SOURCE: BLACK AND WHITE FILM
SOURCE_IMAGE_ID: NAPP 8372 039
SOURCE_IMAGE_DATE: 1995 07 08
SOURCE_DEM_DATE: 1982 00 00
AGENCY: WESTERN MAPPING CENTER (WMC)
PRODUCER: UNDEFINED
PRODUCTION_SYSTEM: GIS/MAGIC
COMPRESSION: UNDEFINED
STANDARD_VERSION: 1996 12
METADATA_DATE: 2000 06 02
DATA_FILE_SIZE: 40461120
BYTE_COUNT: 5352
