FILENAME: O4711115.NWS.1078172.tif
QUADRANGLE_NAME: ANTELOPE FLAT
QUADRANT: NW
WEST_LONGITUDE: -111 15 0.00000
EAST_LONGITUDE: -111 11 15.00000
NORTH_LATITUDE: 47 52 30.00000
SOUTH_LATITUDE: 47 48 45.00000
PRODUCTION_DATE: 2000 5 4
RASTER_ORDER: LEFT_RIGHT/TOP_BOTTOM
BAND_ORGANIZATION: SINGLE FILE
BAND_CONTENT: BLACK&WHITE
BAND_CONTENT: UNDEFINED
BAND_CONTENT: UNDEFINED
BITS_PER_PIXEL: 8
SAMPLES_AND_LINES: 5359 7567
HORIZONTAL_DATUM: NAD83
HORIZONTAL_COORDINATE_SYSTEM: UTM
COORDINATE_ZONE: 12
HORIZONTAL_UNITS: METERS
HORIZONTAL_RESOLUTION: 1.00000
SECONDARY_HORIZONTAL_DATUM: NAD27
XY_ORIGIN: 480922.00000 5302738.00000
SECONDARY_XY_ORIGIN: 480981.36800 5302522.98200
NATION: US
NATION: "SCIENCE
STATE: MT
NW_QUAD_CORNER_XY: 481306.12500 5302437.39400
NE_QUAD_CORNER_XY: 485979.59200 5302424.16000
SE_QUAD_CORNERY_XY: 485962.74000 5295477.73800
SW_QUAD_CORNER_XY: 481283.65600 5295490.97500
SECONDARY_NW_QUAD_XY: 481305.53800 5302218.54600
SECONDARY_NE_QUAD_XY: 485979.15200 5302205.31100
SECONDARY_SE_QUAD_XY: 485962.30000 5295258.90600
SECONDARY_SW_QUAD_XY: 481283.06900 5295272.14400
RMSE_XY: 1.10000
IMAGE_SOURCE: BLACK AND WHITE FILM
SOURCE_IMAGE_ID: NAPP 8372 087
SOURCE_IMAGE_DATE: 1995 07 08
SOURCE_IMAGE_ID: NAPP 8372 088
SOURCE_IMAGE_DATE: 1995 07 08
SOURCE_IMAGE_ID: NAPP 8372 086
SOURCE_IMAGE_DATE: 1995 07 08
SOURCE_DEM_DATE: 1987 00 00
AGENCY: WESTERN MAPPING CENTER (WMC)
PRODUCER: UNDEFINED
PRODUCTION_SYSTEM: GIS/MAGIC
COMPRESSION: UNDEFINED
STANDARD_VERSION: 1996 12
METADATA_DATE: 2000 06 02
DATA_FILE_SIZE: 40556912
BYTE_COUNT: 5359
