FILENAME: O4711115.SWS.1078174.tif
QUADRANGLE_NAME: ANTELOPE FLAT
QUADRANT: SW
WEST_LONGITUDE: -111 15 0.00000
EAST_LONGITUDE: -111 11 15.00000
NORTH_LATITUDE: 47 48 45.00000
SOUTH_LATITUDE: 47 45 0.00000
PRODUCTION_DATE: 2000 5 4
RASTER_ORDER: LEFT_RIGHT/TOP_BOTTOM
BAND_ORGANIZATION: SINGLE FILE
BAND_CONTENT: BLACK&WHITE
BAND_CONTENT: UNDEFINED
BAND_CONTENT: UNDEFINED
BITS_PER_PIXEL: 8
SAMPLES_AND_LINES: 5364 7566
HORIZONTAL_DATUM: NAD83
HORIZONTAL_COORDINATE_SYSTEM: UTM
COORDINATE_ZONE: 12
HORIZONTAL_UNITS: METERS
HORIZONTAL_RESOLUTION: 1.00000
SECONDARY_HORIZONTAL_DATUM: NAD27
XY_ORIGIN: 480900.00000 5295791.00000
SECONDARY_XY_ORIGIN: 480959.22000 5295576.08400
NATION: US
NATION: "SCIENCE
STATE: MT
NW_QUAD_CORNER_XY: 481283.65600 5295490.97500
NE_QUAD_CORNER_XY: 485962.74000 5295477.73800
SE_QUAD_CORNERY_XY: 485945.90500 5288531.39200
SW_QUAD_CORNER_XY: 481261.20900 5288544.63200
SECONDARY_NW_QUAD_XY: 481283.06900 5295272.14400
SECONDARY_NE_QUAD_XY: 485962.30000 5295258.90600
SECONDARY_SE_QUAD_XY: 485945.46500 5288312.57800
SECONDARY_SW_QUAD_XY: 481260.62300 5288325.81800
RMSE_XY: 1.20000
IMAGE_SOURCE: BLACK AND WHITE FILM
SOURCE_IMAGE_ID: NAPP 8372 089
SOURCE_IMAGE_DATE: 1995 07 08
SOURCE_IMAGE_ID: NAPP 8372 091
SOURCE_IMAGE_DATE: 1995 07 08
SOURCE_DEM_DATE: 1987 00 00
AGENCY: WESTERN MAPPING CENTER (WMC)
PRODUCER: UNDEFINED
PRODUCTION_SYSTEM: GIS/MAGIC
COMPRESSION: UNDEFINED
STANDARD_VERSION: 1996 12
METADATA_DATE: 2000 06 02
DATA_FILE_SIZE: 40589388
BYTE_COUNT: 5364
