FILENAME: O4711114.SWS.727327.tif
QUADRANGLE_NAME: SHEEP COULEE SPRINGS
QUADRANT: SW
WEST_LONGITUDE: -111 22 30.00000
EAST_LONGITUDE: -111 18 45.00000
NORTH_LATITUDE: 47 48 45.00000
SOUTH_LATITUDE: 47 45 0.00000
PRODUCTION_DATE: 1997 8 2
RASTER_ORDER: LEFT_RIGHT/TOP_BOTTOM
BAND_ORGANIZATION: SINGLE FILE
BAND_CONTENT: BLACK&WHITE
BAND_CONTENT: UNDEFINED
BAND_CONTENT: UNDEFINED
BITS_PER_PIXEL: 8
SAMPLES_AND_LINES: 5373 7571
HORIZONTAL_DATUM: NAD83
HORIZONTAL_COORDINATE_SYSTEM: UTM
COORDINATE_ZONE: 12
HORIZONTAL_UNITS: METERS
HORIZONTAL_RESOLUTION: 1.00000
SECONDARY_HORIZONTAL_DATUM: NAD27
XY_ORIGIN: 471532.27600 5295828.29500
SECONDARY_XY_ORIGIN: 471591.62000 5295613.35400
NATION: US
STATE: MT
NW_QUAD_CORNER_XY: 471925.49400 5295528.79500
NE_QUAD_CORNER_XY: 476604.57400 5295507.99400
SE_QUAD_CORNERY_XY: 476576.51500 5288561.65500
SW_QUAD_CORNER_XY: 471891.82400 5288582.46000
SECONDARY_NW_QUAD_XY: 471924.61400 5295309.96500
SECONDARY_NE_QUAD_XY: 476603.84000 5295289.16400
SECONDARY_SE_QUAD_XY: 476575.78200 5288342.84200
SECONDARY_SW_QUAD_XY: 471890.94400 5288363.64700
RMSE_XY: 1.10000
IMAGE_SOURCE: BLACK AND WHITE FILM
SOURCE_IMAGE_ID: NAPP 8372 139
SOURCE_IMAGE_DATE: 1995 7 8
SOURCE_DEM_DATE: 1997 8 2
AGENCY: WESTERN MAPPING CENTER (WMC)
PRODUCER: Nies Mapping Group
PRODUCTION_SYSTEM: INTERGRAPH- ISPM,ISIR
COMPRESSION: UNDEFINED
STANDARD_VERSION: 1996 12
METADATA_DATE: 1997 12 28
DATA_FILE_SIZE: 40684356
BYTE_COUNT: 5373
