FILENAME: O4711113.SWS.727354.tif
QUADRANGLE_NAME: TIMBER COULEE SOUTH
QUADRANT: SW
WEST_LONGITUDE: -111 30 0.00000
EAST_LONGITUDE: -111 26 15.00000
NORTH_LATITUDE: 47 48 45.00000
SOUTH_LATITUDE: 47 45 0.00000
PRODUCTION_DATE: 1997 8 2
RASTER_ORDER: LEFT_RIGHT/TOP_BOTTOM
BAND_ORGANIZATION: SINGLE FILE
BAND_CONTENT: BLACK&WHITE
BAND_CONTENT: UNDEFINED
BAND_CONTENT: UNDEFINED
BITS_PER_PIXEL: 8
SAMPLES_AND_LINES: 5384 7579
HORIZONTAL_DATUM: NAD83
HORIZONTAL_COORDINATE_SYSTEM: UTM
COORDINATE_ZONE: 12
HORIZONTAL_UNITS: METERS
HORIZONTAL_RESOLUTION: 1.00000
SECONDARY_HORIZONTAL_DATUM: NAD27
XY_ORIGIN: 462162.51100 5295881.24200
SECONDARY_XY_ORIGIN: 462221.98000 5295666.28300
NATION: US
STATE: MT
NW_QUAD_CORNER_XY: 462567.34600 5295581.74200
NE_QUAD_CORNER_XY: 467246.41800 5295553.37800
SE_QUAD_CORNERY_XY: 467207.13600 5288607.04700
SW_QUAD_CORNER_XY: 462522.45200 5288635.41800
SECONDARY_NW_QUAD_XY: 462566.17300 5295362.91400
SECONDARY_NE_QUAD_XY: 467245.39200 5295334.54800
SECONDARY_SE_QUAD_XY: 467206.11000 5288388.23600
SECONDARY_SW_QUAD_XY: 462521.27900 5288416.60700
RMSE_XY: 1.20000
IMAGE_SOURCE: BLACK AND WHITE FILM
SOURCE_IMAGE_ID: NAPP 8372 189
SOURCE_IMAGE_DATE: 1995 7 8
SOURCE_DEM_DATE: 1997 8 2
AGENCY: WESTERN MAPPING CENTER (WMC)
PRODUCER: Nies Mapping Group
PRODUCTION_SYSTEM: INTERGRAPH- ISPM,ISIR
COMPRESSION: UNDEFINED
STANDARD_VERSION: 1996 12
METADATA_DATE: 1997 12 28
DATA_FILE_SIZE: 40810720
BYTE_COUNT: 5384
