FILENAME: O4711112.SWS.727371.tif
QUADRANGLE_NAME: DUTTON SE
QUADRANT: SW
WEST_LONGITUDE: -111 37 30.00000
EAST_LONGITUDE: -111 33 45.00000
NORTH_LATITUDE: 47 48 45.00000
SOUTH_LATITUDE: 47 45 0.00000
PRODUCTION_DATE: 1997 8 2
RASTER_ORDER: LEFT_RIGHT/TOP_BOTTOM
BAND_ORGANIZATION: SINGLE FILE
BAND_CONTENT: BLACK&WHITE
BAND_CONTENT: UNDEFINED
BAND_CONTENT: UNDEFINED
BITS_PER_PIXEL: 8
SAMPLES_AND_LINES: 5396 7586
HORIZONTAL_DATUM: NAD83
HORIZONTAL_COORDINATE_SYSTEM: UTM
COORDINATE_ZONE: 12
HORIZONTAL_UNITS: METERS
HORIZONTAL_RESOLUTION: 1.00000
SECONDARY_HORIZONTAL_DATUM: NAD27
XY_ORIGIN: 452792.56400 5295949.31800
SECONDARY_XY_ORIGIN: 452852.32800 5295734.46300
NATION: US
STATE: MT
NW_QUAD_CORNER_XY: 453209.21500 5295649.81800
NE_QUAD_CORNER_XY: 457888.27800 5295613.88900
SE_QUAD_CORNERY_XY: 457837.77200 5288667.57200
SW_QUAD_CORNER_XY: 453153.09700 5288703.50800
SECONDARY_NW_QUAD_XY: 453207.74800 5295430.99200
SECONDARY_NE_QUAD_XY: 457886.95800 5295395.06200
SECONDARY_SE_QUAD_XY: 457836.45200 5288448.76200
SECONDARY_SW_QUAD_XY: 453151.63000 5288484.70000
RMSE_XY: 0.90000
IMAGE_SOURCE: BLACK AND WHITE FILM
SOURCE_IMAGE_ID: NAPP 8373 75
SOURCE_IMAGE_DATE: 1995 8 9
SOURCE_DEM_DATE: 1997 8 2
AGENCY: WESTERN MAPPING CENTER (WMC)
PRODUCER: Nies Mapping Group
PRODUCTION_SYSTEM: INTERGRAPH- ISPM,ISIR
COMPRESSION: UNDEFINED
STANDARD_VERSION: 1996 12
METADATA_DATE: 1997 12 28
DATA_FILE_SIZE: 40939452
BYTE_COUNT: 5396
