FILENAME: O4711111.NES.727380.tif
QUADRANGLE_NAME: DUTTON
QUADRANT: NE
WEST_LONGITUDE: -111 41 15.00000
EAST_LONGITUDE: -111 37 30.00000
NORTH_LATITUDE: 47 52 30.00000
SOUTH_LATITUDE: 47 48 45.00000
PRODUCTION_DATE: 1997 8 5
RASTER_ORDER: LEFT_RIGHT/TOP_BOTTOM
BAND_ORGANIZATION: SINGLE FILE
BAND_CONTENT: BLACK&WHITE
BAND_CONTENT: UNDEFINED
BAND_CONTENT: UNDEFINED
BITS_PER_PIXEL: 8
SAMPLES_AND_LINES: 5397 7590
HORIZONTAL_DATUM: NAD83
HORIZONTAL_COORDINATE_SYSTEM: UTM
COORDINATE_ZONE: 12
HORIZONTAL_UNITS: METERS
HORIZONTAL_RESOLUTION: 1.00000
SECONDARY_HORIZONTAL_DATUM: NAD27
XY_ORIGIN: 448169.15200 5302935.40600
SECONDARY_XY_ORIGIN: 448229.23900 5302720.45200
NATION: US
STATE: MT
NW_QUAD_CORNER_XY: 448591.94900 5302635.90600
NE_QUAD_CORNER_XY: 453265.38900 5302596.20300
SE_QUAD_CORNERY_XY: 453209.21500 5295649.81800
SW_QUAD_CORNER_XY: 448530.15700 5295689.52900
SECONDARY_NW_QUAD_XY: 448590.33600 5302417.06400
SECONDARY_NE_QUAD_XY: 453263.92200 5302377.36000
SECONDARY_SE_QUAD_XY: 453207.74800 5295430.99200
SECONDARY_SW_QUAD_XY: 448528.54400 5295470.70400
RMSE_XY: 1.10000
IMAGE_SOURCE: BLACK AND WHITE FILM
SOURCE_IMAGE_ID: NAPP 8373 112
SOURCE_IMAGE_DATE: 1995 8 9
SOURCE_DEM_DATE: 1997 8 5
AGENCY: WESTERN MAPPING CENTER (WMC)
PRODUCER: Nies Mapping Group
PRODUCTION_SYSTEM: INTERGRAPH- ISPM,ISIR
COMPRESSION: UNDEFINED
STANDARD_VERSION: 1996 12
METADATA_DATE: 1997 12 30
DATA_FILE_SIZE: 40968627
BYTE_COUNT: 5397
