FILENAME: O4711111.SES.727382.tif
QUADRANGLE_NAME: DUTTON
QUADRANT: SE
WEST_LONGITUDE: -111 41 15.00000
EAST_LONGITUDE: -111 37 30.00000
NORTH_LATITUDE: 47 48 45.00000
SOUTH_LATITUDE: 47 45 0.00000
PRODUCTION_DATE: 1997 8 5
RASTER_ORDER: LEFT_RIGHT/TOP_BOTTOM
BAND_ORGANIZATION: SINGLE FILE
BAND_CONTENT: BLACK&WHITE
BAND_CONTENT: UNDEFINED
BAND_CONTENT: UNDEFINED
BITS_PER_PIXEL: 8
SAMPLES_AND_LINES: 5402 7590
HORIZONTAL_DATUM: NAD83
HORIZONTAL_COORDINATE_SYSTEM: UTM
COORDINATE_ZONE: 12
HORIZONTAL_UNITS: METERS
HORIZONTAL_RESOLUTION: 1.00000
SECONDARY_HORIZONTAL_DATUM: NAD27
XY_ORIGIN: 448107.59700 5295989.02900
SECONDARY_XY_ORIGIN: 448167.50800 5295774.22500
NATION: US
STATE: MT
NW_QUAD_CORNER_XY: 448530.15700 5295689.52900
NE_QUAD_CORNER_XY: 453209.21500 5295649.81800
SE_QUAD_CORNERY_XY: 453153.09700 5288703.50800
SW_QUAD_CORNER_XY: 448468.42700 5288743.22800
SECONDARY_NW_QUAD_XY: 448528.54400 5295470.70400
SECONDARY_NE_QUAD_XY: 453207.74800 5295430.99200
SECONDARY_SE_QUAD_XY: 453151.63000 5288484.70000
SECONDARY_SW_QUAD_XY: 448466.81300 5288524.42000
RMSE_XY: 1.30000
IMAGE_SOURCE: BLACK AND WHITE FILM
SOURCE_IMAGE_ID: NAPP 8373 110
SOURCE_IMAGE_DATE: 1995 8 9
SOURCE_DEM_DATE: 1997 8 5
AGENCY: WESTERN MAPPING CENTER (WMC)
PRODUCER: Nies Mapping Group
PRODUCTION_SYSTEM: INTERGRAPH- ISPM,ISIR
COMPRESSION: UNDEFINED
STANDARD_VERSION: 1996 12
METADATA_DATE: 1997 12 30
DATA_FILE_SIZE: 41006582
BYTE_COUNT: 5402
