FILENAME: O4711110.SWS.727395.tif
QUADRANGLE_NAME: COLLINS SE
QUADRANT: SW
WEST_LONGITUDE: -111 52 30.00000
EAST_LONGITUDE: -111 48 45.00000
NORTH_LATITUDE: 47 48 45.00000
SOUTH_LATITUDE: 47 45 0.00000
PRODUCTION_DATE: 1997 8 5
RASTER_ORDER: LEFT_RIGHT/TOP_BOTTOM
BAND_ORGANIZATION: SINGLE FILE
BAND_CONTENT: BLACK&WHITE
BAND_CONTENT: UNDEFINED
BAND_CONTENT: UNDEFINED
BITS_PER_PIXEL: 8
SAMPLES_AND_LINES: 5420 7602
HORIZONTAL_DATUM: NAD83
HORIZONTAL_COORDINATE_SYSTEM: UTM
COORDINATE_ZONE: 12
HORIZONTAL_UNITS: METERS
HORIZONTAL_RESOLUTION: 1.00000
SECONDARY_HORIZONTAL_DATUM: NAD27
XY_ORIGIN: 434052.61600 5296130.85800
SECONDARY_XY_ORIGIN: 434113.05300 5295916.17000
NATION: US
STATE: MT
NW_QUAD_CORNER_XY: 434493.02100 5295831.35800
NE_QUAD_CORNER_XY: 439172.06000 5295780.29900
SE_QUAD_CORNERY_XY: 439099.10400 5288834.01600
SW_QUAD_CORNER_XY: 434414.45300 5288885.08600
SECONDARY_NW_QUAD_XY: 434490.96800 5295612.53700
SECONDARY_NE_QUAD_XY: 439170.15300 5295561.47700
SECONDARY_SE_QUAD_XY: 439097.19800 5288615.21200
SECONDARY_SW_QUAD_XY: 434412.40000 5288666.28300
RMSE_XY: 1.00000
IMAGE_SOURCE: BLACK AND WHITE FILM
SOURCE_IMAGE_ID: NAPP 8373 170
SOURCE_IMAGE_DATE: 1995 8 9
SOURCE_DEM_DATE: 1997 8 5
AGENCY: WESTERN MAPPING CENTER (WMC)
PRODUCER: Nies Mapping Group
PRODUCTION_SYSTEM: INTERGRAPH- ISPM,ISIR
COMPRESSION: UNDEFINED
STANDARD_VERSION: 1996 12
METADATA_DATE: 1997 12 30
DATA_FILE_SIZE: 41208260
BYTE_COUNT: 5420
