FILENAME: O4711108.SWS.1078197.tif
QUADRANGLE_NAME: DENT BRIDGE NE
QUADRANT: SW
WEST_LONGITUDE: -111 7 30.00000
EAST_LONGITUDE: -111 3 45.00000
NORTH_LATITUDE: 47 56 15.00000
SOUTH_LATITUDE: 47 52 30.00000
PRODUCTION_DATE: 2000 5 8
RASTER_ORDER: LEFT_RIGHT/TOP_BOTTOM
BAND_ORGANIZATION: SINGLE FILE
BAND_CONTENT: BLACK&WHITE
BAND_CONTENT: UNDEFINED
BAND_CONTENT: UNDEFINED
BITS_PER_PIXEL: 8
SAMPLES_AND_LINES: 5342 7559
HORIZONTAL_DATUM: NAD83
HORIZONTAL_COORDINATE_SYSTEM: UTM
COORDINATE_ZONE: 12
HORIZONTAL_UNITS: METERS
HORIZONTAL_RESOLUTION: 1.00000
SECONDARY_HORIZONTAL_DATUM: NAD27
XY_ORIGIN: 490292.00000 5309662.00000
SECONDARY_XY_ORIGIN: 490351.15800 5309446.79500
NATION: US
NATION: "SCIENCE
STATE: MT
NW_QUAD_CORNER_XY: 490664.30600 5309361.20700
NE_QUAD_CORNER_XY: 495332.15300 5309355.53700
SE_QUAD_CORNERY_XY: 495326.53000 5302409.03600
SW_QUAD_CORNER_XY: 490653.06000 5302414.70700
SECONDARY_NW_QUAD_XY: 490664.01300 5309142.34200
SECONDARY_NE_QUAD_XY: 495332.00600 5309136.67100
SECONDARY_SE_QUAD_XY: 495326.38300 5302190.18600
SECONDARY_SW_QUAD_XY: 490652.76700 5302195.85800
RMSE_XY: 0.90000
IMAGE_SOURCE: BLACK AND WHITE FILM
SOURCE_IMAGE_ID: NAPP 8372 035
SOURCE_IMAGE_DATE: 1995 07 08
SOURCE_IMAGE_ID: NAPP 8372 077
SOURCE_IMAGE_DATE: 1995 07 08
SOURCE_DEM_DATE: 1982 00 00
AGENCY: WESTERN MAPPING CENTER (WMC)
PRODUCER: UNDEFINED
PRODUCTION_SYSTEM: GIS/MAGIC
COMPRESSION: UNDEFINED
STANDARD_VERSION: 1996 12
METADATA_DATE: 2000 06 02
DATA_FILE_SIZE: 40385520
BYTE_COUNT: 5342
