FILENAME: O4711107.SES.1078169.tif
QUADRANGLE_NAME: DENT BRIDGE
QUADRANT: SE
WEST_LONGITUDE: -111 11 15.00000
EAST_LONGITUDE: -111 7 30.00000
NORTH_LATITUDE: 47 56 15.00000
SOUTH_LATITUDE: 47 52 30.00000
PRODUCTION_DATE: 2000 5 4
RASTER_ORDER: LEFT_RIGHT/TOP_BOTTOM
BAND_ORGANIZATION: SINGLE FILE
BAND_CONTENT: BLACK&WHITE
BAND_CONTENT: UNDEFINED
BAND_CONTENT: UNDEFINED
BITS_PER_PIXEL: 8
SAMPLES_AND_LINES: 5348 7563
HORIZONTAL_DATUM: NAD83
HORIZONTAL_COORDINATE_SYSTEM: UTM
COORDINATE_ZONE: 12
HORIZONTAL_UNITS: METERS
HORIZONTAL_RESOLUTION: 1.00000
SECONDARY_HORIZONTAL_DATUM: NAD27
XY_ORIGIN: 485618.00000 5309671.00000
SECONDARY_XY_ORIGIN: 485677.33700 5309455.83800
NATION: US
NATION: "SCIENCE
STATE: MT
NW_QUAD_CORNER_XY: 485996.46000 5309370.65800
NE_QUAD_CORNER_XY: 490664.30600 5309361.20700
SE_QUAD_CORNERY_XY: 490653.06000 5302414.70700
SW_QUAD_CORNER_XY: 485979.59200 5302424.16000
SECONDARY_NW_QUAD_XY: 485996.02000 5309151.79300
SECONDARY_NE_QUAD_XY: 490664.01300 5309142.34200
SECONDARY_SE_QUAD_XY: 490652.76700 5302195.85800
SECONDARY_SW_QUAD_XY: 485979.15200 5302205.31100
RMSE_XY: 1.20000
IMAGE_SOURCE: BLACK AND WHITE FILM
SOURCE_IMAGE_ID: NAPP 8372 078
SOURCE_IMAGE_DATE: 1995 07 08
SOURCE_IMAGE_ID: NAPP 8372 086
SOURCE_IMAGE_DATE: 1995 07 08
SOURCE_DEM_DATE: 1987 00 00
AGENCY: WESTERN MAPPING CENTER (WMC)
PRODUCER: UNDEFINED
PRODUCTION_SYSTEM: GIS/MAGIC
COMPRESSION: UNDEFINED
STANDARD_VERSION: 1996 12
METADATA_DATE: 2000 06 02
DATA_FILE_SIZE: 40452272
BYTE_COUNT: 5348
