FILENAME: O4711107.SWS.1078170.tif
QUADRANGLE_NAME: DENT BRIDGE
QUADRANT: SW
WEST_LONGITUDE: -111 15 0.00000
EAST_LONGITUDE: -111 11 15.00000
NORTH_LATITUDE: 47 56 15.00000
SOUTH_LATITUDE: 47 52 30.00000
PRODUCTION_DATE: 2000 5 4
RASTER_ORDER: LEFT_RIGHT/TOP_BOTTOM
BAND_ORGANIZATION: SINGLE FILE
BAND_CONTENT: BLACK&WHITE
BAND_CONTENT: UNDEFINED
BAND_CONTENT: UNDEFINED
BITS_PER_PIXEL: 8
SAMPLES_AND_LINES: 5353 7566
HORIZONTAL_DATUM: NAD83
HORIZONTAL_COORDINATE_SYSTEM: UTM
COORDINATE_ZONE: 12
HORIZONTAL_UNITS: METERS
HORIZONTAL_RESOLUTION: 1.00000
SECONDARY_HORIZONTAL_DATUM: NAD27
XY_ORIGIN: 480945.00000 5309684.00000
SECONDARY_XY_ORIGIN: 481004.51600 5309468.88000
NATION: US
NATION: "SCIENCE
STATE: MT
NW_QUAD_CORNER_XY: 481328.61600 5309383.88900
NE_QUAD_CORNER_XY: 485996.46000 5309370.65800
SE_QUAD_CORNERY_XY: 485979.59200 5302424.16000
SW_QUAD_CORNER_XY: 481306.12500 5302437.39400
SECONDARY_NW_QUAD_XY: 481328.03000 5309165.02400
SECONDARY_NE_QUAD_XY: 485996.02000 5309151.79300
SECONDARY_SE_QUAD_XY: 485979.15200 5302205.31100
SECONDARY_SW_QUAD_XY: 481305.53800 5302218.54600
RMSE_XY: 0.80000
IMAGE_SOURCE: BLACK AND WHITE FILM
SOURCE_IMAGE_ID: NAPP 8372 085
SOURCE_IMAGE_DATE: 1995 07 08
SOURCE_IMAGE_ID: NAPP 8372 086
SOURCE_IMAGE_DATE: 1995 07 08
SOURCE_DEM_DATE: 1987 00 00
AGENCY: WESTERN MAPPING CENTER (WMC)
PRODUCER: UNDEFINED
PRODUCTION_SYSTEM: GIS/MAGIC
COMPRESSION: UNDEFINED
STANDARD_VERSION: 1996 12
METADATA_DATE: 2000 06 02
DATA_FILE_SIZE: 40506151
BYTE_COUNT: 5353
