FILENAME: O4711106.NWS.1078156.tif
QUADRANGLE_NAME: SHANNON BRIDGE
QUADRANT: NW
WEST_LONGITUDE: -111 22 30.00000
EAST_LONGITUDE: -111 18 45.00000
NORTH_LATITUDE: 48 0 0.00000
SOUTH_LATITUDE: 47 56 15.00000
PRODUCTION_DATE: 2000 5 4
RASTER_ORDER: LEFT_RIGHT/TOP_BOTTOM
BAND_ORGANIZATION: SINGLE FILE
BAND_CONTENT: BLACK&WHITE
BAND_CONTENT: UNDEFINED
BAND_CONTENT: UNDEFINED
BITS_PER_PIXEL: 8
SAMPLES_AND_LINES: 5359 7574
HORIZONTAL_DATUM: NAD83
HORIZONTAL_COORDINATE_SYSTEM: UTM
COORDINATE_ZONE: 12
HORIZONTAL_UNITS: METERS
HORIZONTAL_RESOLUTION: 1.00000
SECONDARY_HORIZONTAL_DATUM: NAD27
XY_ORIGIN: 471631.00000 5316669.00000
SECONDARY_XY_ORIGIN: 471690.83300 5316453.68600
NATION: US
NATION: "SCIENCE
STATE: MT
NW_QUAD_CORNER_XY: 472026.70700 5316368.25400
NE_QUAD_CORNER_XY: 476688.91700 5316347.46700
SE_QUAD_CORNERY_XY: 476660.77500 5309400.90000
SW_QUAD_CORNER_XY: 471992.93600 5309421.69100
SECONDARY_NW_QUAD_XY: 472025.82700 5316149.37500
SECONDARY_NE_QUAD_XY: 476688.18400 5316128.58800
SECONDARY_SE_QUAD_XY: 476660.04100 5309182.03600
SECONDARY_SW_QUAD_XY: 471992.05600 5309202.82800
RMSE_XY: 1.00000
IMAGE_SOURCE: BLACK AND WHITE FILM
SOURCE_IMAGE_ID: NAPP 8372 133
SOURCE_IMAGE_DATE: 1995 07 08
SOURCE_IMAGE_ID: NAPP 8372 130
SOURCE_IMAGE_DATE: 1995 07 08
SOURCE_DEM_DATE: 1987 00 00
AGENCY: WESTERN MAPPING CENTER (WMC)
PRODUCER: UNDEFINED
PRODUCTION_SYSTEM: GIS/MAGIC
COMPRESSION: UNDEFINED
STANDARD_VERSION: 1996 12
METADATA_DATE: 2000 06 02
DATA_FILE_SIZE: 40594425
BYTE_COUNT: 5359
