FILENAME: O4711106.SES.1078157.tif
QUADRANGLE_NAME: SHANNON BRIDGE
QUADRANT: SE
WEST_LONGITUDE: -111 18 45.00000
EAST_LONGITUDE: -111 15 0.00000
NORTH_LATITUDE: 47 56 15.00000
SOUTH_LATITUDE: 47 52 30.00000
PRODUCTION_DATE: 2000 5 4
RASTER_ORDER: LEFT_RIGHT/TOP_BOTTOM
BAND_ORGANIZATION: SINGLE FILE
BAND_CONTENT: BLACK&WHITE
BAND_CONTENT: UNDEFINED
BAND_CONTENT: UNDEFINED
BITS_PER_PIXEL: 8
SAMPLES_AND_LINES: 5359 7570
HORIZONTAL_DATUM: NAD83
HORIZONTAL_COORDINATE_SYSTEM: UTM
COORDINATE_ZONE: 12
HORIZONTAL_UNITS: METERS
HORIZONTAL_RESOLUTION: 1.00000
SECONDARY_HORIZONTAL_DATUM: NAD27
XY_ORIGIN: 476271.00000 5309701.00000
SECONDARY_XY_ORIGIN: 476330.59300 5309485.84400
NATION: US
NATION: "SCIENCE
STATE: MT
NW_QUAD_CORNER_XY: 476660.77500 5309400.90000
NE_QUAD_CORNER_XY: 481328.61600 5309383.88900
SE_QUAD_CORNERY_XY: 481306.12500 5302437.39400
SW_QUAD_CORNER_XY: 476632.66000 5302454.40900
SECONDARY_NW_QUAD_XY: 476660.04100 5309182.03600
SECONDARY_NE_QUAD_XY: 481328.03000 5309165.02400
SECONDARY_SE_QUAD_XY: 481305.53800 5302218.54600
SECONDARY_SW_QUAD_XY: 476631.92700 5302235.56100
RMSE_XY: 1.30000
IMAGE_SOURCE: BLACK AND WHITE FILM
SOURCE_IMAGE_ID: NAPP 8372 128
SOURCE_IMAGE_DATE: 1995 07 08
SOURCE_DEM_DATE: 1987 00 00
AGENCY: WESTERN MAPPING CENTER (WMC)
PRODUCER: UNDEFINED
PRODUCTION_SYSTEM: GIS/MAGIC
COMPRESSION: UNDEFINED
STANDARD_VERSION: 1996 12
METADATA_DATE: 2000 06 02
DATA_FILE_SIZE: 40572989
BYTE_COUNT: 5359
