FILENAME: O4711106.SWS.1078158.tif
QUADRANGLE_NAME: SHANNON BRIDGE
QUADRANT: SW
WEST_LONGITUDE: -111 22 30.00000
EAST_LONGITUDE: -111 18 45.00000
NORTH_LATITUDE: 47 56 15.00000
SOUTH_LATITUDE: 47 52 30.00000
PRODUCTION_DATE: 2000 5 4
RASTER_ORDER: LEFT_RIGHT/TOP_BOTTOM
BAND_ORGANIZATION: SINGLE FILE
BAND_CONTENT: BLACK&WHITE
BAND_CONTENT: UNDEFINED
BAND_CONTENT: UNDEFINED
BITS_PER_PIXEL: 8
SAMPLES_AND_LINES: 5365 7574
HORIZONTAL_DATUM: NAD83
HORIZONTAL_COORDINATE_SYSTEM: UTM
COORDINATE_ZONE: 12
HORIZONTAL_UNITS: METERS
HORIZONTAL_RESOLUTION: 1.00000
SECONDARY_HORIZONTAL_DATUM: NAD27
XY_ORIGIN: 471597.00000 5309722.00000
SECONDARY_XY_ORIGIN: 471656.67000 5309506.81000
NATION: US
NATION: "SCIENCE
STATE: MT
NW_QUAD_CORNER_XY: 471992.93600 5309421.69100
NE_QUAD_CORNER_XY: 476660.77500 5309400.90000
SE_QUAD_CORNERY_XY: 476632.66000 5302454.40900
SW_QUAD_CORNER_XY: 471959.19800 5302475.20500
SECONDARY_NW_QUAD_XY: 471992.05600 5309202.82800
SECONDARY_NE_QUAD_XY: 476660.04100 5309182.03600
SECONDARY_SE_QUAD_XY: 476631.92700 5302235.56100
SECONDARY_SW_QUAD_XY: 471958.31800 5302256.35800
RMSE_XY: 1.20000
IMAGE_SOURCE: BLACK AND WHITE FILM
SOURCE_IMAGE_ID: NAPP 8372 135
SOURCE_IMAGE_DATE: 1995 07 08
SOURCE_IMAGE_ID: NAPP 8372 177
SOURCE_IMAGE_DATE: 1995 07 08
SOURCE_IMAGE_ID: NAPP 8372 133
SOURCE_IMAGE_DATE: 1995 07 08
SOURCE_DEM_DATE: 1987 00 00
AGENCY: WESTERN MAPPING CENTER (WMC)
PRODUCER: UNDEFINED
PRODUCTION_SYSTEM: GIS/MAGIC
COMPRESSION: UNDEFINED
STANDARD_VERSION: 1996 12
METADATA_DATE: 2000 06 02
DATA_FILE_SIZE: 40639875
BYTE_COUNT: 5365
