FILENAME: O4711105.NWS.1078148.tif
QUADRANGLE_NAME: TIMBER COULEE NORTH
QUADRANT: NW
WEST_LONGITUDE: -111 30 0.00000
EAST_LONGITUDE: -111 26 15.00000
NORTH_LATITUDE: 48 0 0.00000
SOUTH_LATITUDE: 47 56 15.00000
PRODUCTION_DATE: 2000 5 4
RASTER_ORDER: LEFT_RIGHT/TOP_BOTTOM
BAND_ORGANIZATION: SINGLE FILE
BAND_CONTENT: BLACK&WHITE
BAND_CONTENT: UNDEFINED
BAND_CONTENT: UNDEFINED
BITS_PER_PIXEL: 8
SAMPLES_AND_LINES: 5371 7582
HORIZONTAL_DATUM: NAD83
HORIZONTAL_COORDINATE_SYSTEM: UTM
COORDINATE_ZONE: 12
HORIZONTAL_UNITS: METERS
HORIZONTAL_RESOLUTION: 1.00000
SECONDARY_HORIZONTAL_DATUM: NAD27
XY_ORIGIN: 462295.00000 5316722.00000
SECONDARY_XY_ORIGIN: 462355.00500 5316506.59400
NATION: US
NATION: "SCIENCE
STATE: MT
NW_QUAD_CORNER_XY: 462702.29700 5316421.16600
NE_QUAD_CORNER_XY: 467364.50000 5316392.82000
SE_QUAD_CORNERY_XY: 467325.10000 5309446.26300
SW_QUAD_CORNER_XY: 462657.26900 5309474.61600
SECONDARY_NW_QUAD_XY: 462701.12300 5316202.28900
SECONDARY_NE_QUAD_XY: 467363.47300 5316173.94200
SECONDARY_SE_QUAD_XY: 467324.07300 5309227.40100
SECONDARY_SW_QUAD_XY: 462656.09500 5309255.75400
RMSE_XY: 0.80000
IMAGE_SOURCE: BLACK AND WHITE FILM
SOURCE_IMAGE_ID: NAPP 8372 183
SOURCE_IMAGE_DATE: 1995 07 08
SOURCE_IMAGE_ID: NAPP 8372 184
SOURCE_IMAGE_DATE: 1995 07 08
SOURCE_DEM_DATE: 1987 00 00
AGENCY: WESTERN MAPPING CENTER (WMC)
PRODUCER: UNDEFINED
PRODUCTION_SYSTEM: GIS/MAGIC
COMPRESSION: UNDEFINED
STANDARD_VERSION: 1996 12
METADATA_DATE: 2000 06 02
DATA_FILE_SIZE: 40728293
BYTE_COUNT: 5371
