FILENAME: O4711105.SES.1078149.tif
QUADRANGLE_NAME: TIMBER COULEE NORTH
QUADRANT: SE
WEST_LONGITUDE: -111 26 15.00000
EAST_LONGITUDE: -111 22 30.00000
NORTH_LATITUDE: 47 56 15.00000
SOUTH_LATITUDE: 47 52 30.00000
PRODUCTION_DATE: 2000 5 4
RASTER_ORDER: LEFT_RIGHT/TOP_BOTTOM
BAND_ORGANIZATION: SINGLE FILE
BAND_CONTENT: BLACK&WHITE
BAND_CONTENT: UNDEFINED
BAND_CONTENT: UNDEFINED
BITS_PER_PIXEL: 8
SAMPLES_AND_LINES: 5370 7578
HORIZONTAL_DATUM: NAD83
HORIZONTAL_COORDINATE_SYSTEM: UTM
COORDINATE_ZONE: 12
HORIZONTAL_UNITS: METERS
HORIZONTAL_RESOLUTION: 1.00000
SECONDARY_HORIZONTAL_DATUM: NAD27
XY_ORIGIN: 466924.00000 5309747.00000
SECONDARY_XY_ORIGIN: 466983.74700 5309531.77600
NATION: US
NATION: "SCIENCE
STATE: MT
NW_QUAD_CORNER_XY: 467325.10000 5309446.26300
NE_QUAD_CORNER_XY: 471992.93600 5309421.69100
SE_QUAD_CORNERY_XY: 471959.19800 5302475.20500
SW_QUAD_CORNER_XY: 467285.74000 5302499.78200
SECONDARY_NW_QUAD_XY: 467324.07300 5309227.40100
SECONDARY_NE_QUAD_XY: 471992.05600 5309202.82800
SECONDARY_SE_QUAD_XY: 471958.31800 5302256.35800
SECONDARY_SW_QUAD_XY: 467284.71300 5302280.93600
RMSE_XY: 1.40000
IMAGE_SOURCE: BLACK AND WHITE FILM
SOURCE_IMAGE_ID: NAPP 8372 178
SOURCE_IMAGE_DATE: 1995 07 08
SOURCE_IMAGE_ID: NAPP 8372 185
SOURCE_IMAGE_DATE: 1995 07 08
SOURCE_IMAGE_ID: NAPP 8372 177
SOURCE_IMAGE_DATE: 1995 07 08
SOURCE_IMAGE_ID: NAPP 8372 136
SOURCE_IMAGE_DATE: 1995 07 08
SOURCE_DEM_DATE: 1987 00 00
AGENCY: WESTERN MAPPING CENTER (WMC)
PRODUCER: UNDEFINED
PRODUCTION_SYSTEM: GIS/MAGIC
COMPRESSION: UNDEFINED
STANDARD_VERSION: 1996 12
METADATA_DATE: 2000 06 02
DATA_FILE_SIZE: 40699230
BYTE_COUNT: 5370
