FILENAME: O4711104.NES.1078143.tif
QUADRANGLE_NAME: DUTTON NE
QUADRANT: NE
WEST_LONGITUDE: -111 33 45.00000
EAST_LONGITUDE: -111 30 0.00000
NORTH_LATITUDE: 48 0 0.00000
SOUTH_LATITUDE: 47 56 15.00000
PRODUCTION_DATE: 2000 5 3
RASTER_ORDER: LEFT_RIGHT/TOP_BOTTOM
BAND_ORGANIZATION: SINGLE FILE
BAND_CONTENT: BLACK&WHITE
BAND_CONTENT: UNDEFINED
BAND_CONTENT: UNDEFINED
BITS_PER_PIXEL: 8
SAMPLES_AND_LINES: 5377 7585
HORIZONTAL_DATUM: NAD83
HORIZONTAL_COORDINATE_SYSTEM: UTM
COORDINATE_ZONE: 12
HORIZONTAL_UNITS: METERS
HORIZONTAL_RESOLUTION: 1.00000
SECONDARY_HORIZONTAL_DATUM: NAD27
XY_ORIGIN: 457627.00000 5316754.00000
SECONDARY_XY_ORIGIN: 457687.15400 5316538.64900
NATION: US
NATION: "SCIENCE
STATE: MT
NW_QUAD_CORNER_XY: 458040.09900 5316453.29200
NE_QUAD_CORNER_XY: 462702.29700 5316421.16600
SE_QUAD_CORNERY_XY: 462657.26900 5309474.61600
SW_QUAD_CORNER_XY: 457989.44200 5309506.74900
SECONDARY_NW_QUAD_XY: 458038.77800 5316234.41600
SECONDARY_NE_QUAD_XY: 462701.12300 5316202.28900
SECONDARY_SE_QUAD_XY: 462656.09500 5309255.75400
SECONDARY_SW_QUAD_XY: 457988.12100 5309287.88800
RMSE_XY: 0.80000
IMAGE_SOURCE: BLACK AND WHITE FILM
SOURCE_IMAGE_ID: NAPP 8373 066
SOURCE_IMAGE_DATE: 1995 08 09
SOURCE_IMAGE_ID: NAPP 8373 067
SOURCE_IMAGE_DATE: 1995 08 09
SOURCE_DEM_DATE: 1987 00 00
AGENCY: WESTERN MAPPING CENTER (WMC)
PRODUCER: UNDEFINED
PRODUCTION_SYSTEM: GIS/MAGIC
COMPRESSION: UNDEFINED
STANDARD_VERSION: 1996 12
METADATA_DATE: 2000 06 02
DATA_FILE_SIZE: 40789922
BYTE_COUNT: 5377
