FILENAME: O4711103.NES.1078131.tif
QUADRANGLE_NAME: DUTTON NW
QUADRANT: NE
WEST_LONGITUDE: -111 41 15.00000
EAST_LONGITUDE: -111 37 30.00000
NORTH_LATITUDE: 48 0 0.00000
SOUTH_LATITUDE: 47 56 15.00000
PRODUCTION_DATE: 2000 5 3
RASTER_ORDER: LEFT_RIGHT/TOP_BOTTOM
BAND_ORGANIZATION: SINGLE FILE
BAND_CONTENT: BLACK&WHITE
BAND_CONTENT: UNDEFINED
BAND_CONTENT: UNDEFINED
BITS_PER_PIXEL: 8
SAMPLES_AND_LINES: 5389 7593
HORIZONTAL_DATUM: NAD83
HORIZONTAL_COORDINATE_SYSTEM: UTM
COORDINATE_ZONE: 12
HORIZONTAL_UNITS: METERS
HORIZONTAL_RESOLUTION: 1.00000
SECONDARY_HORIZONTAL_DATUM: NAD27
XY_ORIGIN: 448290.00000 5316829.00000
SECONDARY_XY_ORIGIN: 448350.43800 5316613.74800
NATION: US
NATION: "SCIENCE
STATE: MT
NW_QUAD_CORNER_XY: 448715.71800 5316528.88300
NE_QUAD_CORNER_XY: 453377.90600 5316489.19700
SE_QUAD_CORNERY_XY: 453321.61900 5309542.66200
SW_QUAD_CORNER_XY: 448653.80300 5309582.35600
SECONDARY_NW_QUAD_XY: 448714.10500 5316310.00900
SECONDARY_NE_QUAD_XY: 453376.43900 5316270.32300
SECONDARY_SE_QUAD_XY: 453320.15200 5309323.80300
SECONDARY_SW_QUAD_XY: 448652.18900 5309363.49800
RMSE_XY: 0.70000
IMAGE_SOURCE: BLACK AND WHITE FILM
SOURCE_IMAGE_ID: NAPP 8373 161
SOURCE_IMAGE_DATE: 1995 08 09
SOURCE_DEM_DATE: 1987 00 00
AGENCY: WESTERN MAPPING CENTER (WMC)
PRODUCER: UNDEFINED
PRODUCTION_SYSTEM: GIS/MAGIC
COMPRESSION: UNDEFINED
STANDARD_VERSION: 1996 12
METADATA_DATE: 2000 06 02
DATA_FILE_SIZE: 40924066
BYTE_COUNT: 5389
