FILENAME: O4711103.SWS.1078134.tif
QUADRANGLE_NAME: DUTTON NW
QUADRANT: SW
WEST_LONGITUDE: -111 45 0.00000
EAST_LONGITUDE: -111 41 15.00000
NORTH_LATITUDE: 47 56 15.00000
SOUTH_LATITUDE: 47 52 30.00000
PRODUCTION_DATE: 2000 5 3
RASTER_ORDER: LEFT_RIGHT/TOP_BOTTOM
BAND_ORGANIZATION: SINGLE FILE
BAND_CONTENT: BLACK&WHITE
BAND_CONTENT: UNDEFINED
BAND_CONTENT: UNDEFINED
BITS_PER_PIXEL: 8
SAMPLES_AND_LINES: 5400 7596
HORIZONTAL_DATUM: NAD83
HORIZONTAL_COORDINATE_SYSTEM: UTM
COORDINATE_ZONE: 12
HORIZONTAL_UNITS: METERS
HORIZONTAL_RESOLUTION: 1.00000
SECONDARY_HORIZONTAL_DATUM: NAD27
XY_ORIGIN: 443555.00000 5309926.00000
SECONDARY_XY_ORIGIN: 443615.40700 5309710.94600
NATION: US
NATION: "SCIENCE
STATE: MT
NW_QUAD_CORNER_XY: 443985.99300 5309625.83100
NE_QUAD_CORNER_XY: 448653.80300 5309582.35600
SE_QUAD_CORNERY_XY: 448591.94900 5302635.90500
SW_QUAD_CORNER_XY: 443918.51500 5302679.38900
SECONDARY_NW_QUAD_XY: 443984.23200 5309406.97400
SECONDARY_NE_QUAD_XY: 448652.18900 5309363.49800
SECONDARY_SE_QUAD_XY: 448590.33600 5302417.06300
SECONDARY_SW_QUAD_XY: 443916.75500 5302460.54900
RMSE_XY: 0.90000
IMAGE_SOURCE: BLACK AND WHITE FILM
SOURCE_IMAGE_ID: NAPP 8373 120
SOURCE_IMAGE_DATE: 1995 08 09
SOURCE_DEM_DATE: 1987 00 00
AGENCY: WESTERN MAPPING CENTER (WMC)
PRODUCER: UNDEFINED
PRODUCTION_SYSTEM: GIS/MAGIC
COMPRESSION: UNDEFINED
STANDARD_VERSION: 1996 12
METADATA_DATE: 2000 06 02
DATA_FILE_SIZE: 41023800
BYTE_COUNT: 5400
