FILENAME: O4711102.SES.1078125.tif
QUADRANGLE_NAME: COLLINS
QUADRANT: SE
WEST_LONGITUDE: -111 48 45.00000
EAST_LONGITUDE: -111 45 0.00000
NORTH_LATITUDE: 47 56 15.00000
SOUTH_LATITUDE: 47 52 30.00000
PRODUCTION_DATE: 2000 5 3
RASTER_ORDER: LEFT_RIGHT/TOP_BOTTOM
BAND_ORGANIZATION: SINGLE FILE
BAND_CONTENT: BLACK&WHITE
BAND_CONTENT: UNDEFINED
BAND_CONTENT: UNDEFINED
BITS_PER_PIXEL: 8
SAMPLES_AND_LINES: 5406 7601
HORIZONTAL_DATUM: NAD83
HORIZONTAL_COORDINATE_SYSTEM: UTM
COORDINATE_ZONE: 12
HORIZONTAL_UNITS: METERS
HORIZONTAL_RESOLUTION: 1.00000
SECONDARY_HORIZONTAL_DATUM: NAD27
XY_ORIGIN: 438881.00000 5309974.00000
SECONDARY_XY_ORIGIN: 438941.55800 5309758.94000
NATION: US
NATION: "SCIENCE
STATE: MT
NW_QUAD_CORNER_XY: 439318.18900 5309673.08700
NE_QUAD_CORNER_XY: 443985.99300 5309625.83100
SE_QUAD_CORNERY_XY: 443918.51500 5302679.38900
SW_QUAD_CORNER_XY: 439245.08800 5302726.65500
SECONDARY_NW_QUAD_XY: 439316.28200 5309454.23100
SECONDARY_NE_QUAD_XY: 443984.23200 5309406.97400
SECONDARY_SE_QUAD_XY: 443916.75500 5302460.54900
SECONDARY_SW_QUAD_XY: 439243.18100 5302507.81600
RMSE_XY: 1.70000
IMAGE_SOURCE: BLACK AND WHITE FILM
SOURCE_IMAGE_ID: NAPP 8373 214
SOURCE_IMAGE_DATE: 1995 08 09
SOURCE_IMAGE_ID: NAPP 8373 120
SOURCE_IMAGE_DATE: 1995 08 09
SOURCE_DEM_DATE: 1987 00 00
AGENCY: WESTERN MAPPING CENTER (WMC)
PRODUCER: UNDEFINED
PRODUCTION_SYSTEM: GIS/MAGIC
COMPRESSION: UNDEFINED
STANDARD_VERSION: 1996 12
METADATA_DATE: 2000 06 02
DATA_FILE_SIZE: 41096412
BYTE_COUNT: 5406
