FILENAME: O4711101.NWS.1078120.tif
QUADRANGLE_NAME: COLLINS NW
QUADRANT: NW
WEST_LONGITUDE: -112 0 0.00000
EAST_LONGITUDE: -111 56 15.00000
NORTH_LATITUDE: 48 0 0.00000
SOUTH_LATITUDE: 47 56 15.00000
PRODUCTION_DATE: 2000 5 3
RASTER_ORDER: LEFT_RIGHT/TOP_BOTTOM
BAND_ORGANIZATION: SINGLE FILE
BAND_CONTENT: BLACK&WHITE
BAND_CONTENT: UNDEFINED
BAND_CONTENT: UNDEFINED
BITS_PER_PIXEL: 8
SAMPLES_AND_LINES: 5419 7612
HORIZONTAL_DATUM: NAD83
HORIZONTAL_COORDINATE_SYSTEM: UTM
COORDINATE_ZONE: 12
HORIZONTAL_UNITS: METERS
HORIZONTAL_RESOLUTION: 1.00000
SECONDARY_HORIZONTAL_DATUM: NAD27
XY_ORIGIN: 424950.00000 5317085.00000
SECONDARY_XY_ORIGIN: 425011.07800 5316869.68000
NATION: US
NATION: "SCIENCE
STATE: MT
NW_QUAD_CORNER_XY: 425404.88800 5316784.00900
NE_QUAD_CORNER_XY: 430067.03800 5316725.42300
SE_QUAD_CORNERY_XY: 429982.60500 5309778.94100
SW_QUAD_CORNER_XY: 425314.82500 5309837.53900
SECONDARY_NW_QUAD_XY: 425402.54000 5316565.14300
SECONDARY_NE_QUAD_XY: 430064.83700 5316506.55600
SECONDARY_SE_QUAD_XY: 429980.40400 5309560.08900
SECONDARY_SW_QUAD_XY: 425312.47700 5309618.68900
RMSE_XY: 1.60000
IMAGE_SOURCE: BLACK AND WHITE FILM
SOURCE_IMAGE_ID: NAPP 8373 271
SOURCE_IMAGE_DATE: 1995 08 09
SOURCE_IMAGE_ID: NAPP 8373 270
SOURCE_IMAGE_DATE: 1995 08 09
SOURCE_DEM_DATE: 1987 00 00
AGENCY: WESTERN MAPPING CENTER (WMC)
PRODUCER: UNDEFINED
PRODUCTION_SYSTEM: GIS/MAGIC
COMPRESSION: UNDEFINED
STANDARD_VERSION: 1996 12
METADATA_DATE: 2000 06 02
DATA_FILE_SIZE: 41254847
BYTE_COUNT: 5419
