FILENAME: O4711264.NWS.956541.tif
QUADRANGLE_NAME: WOLF CREEK
QUADRANT: NW
WEST_LONGITUDE: -112 7 30.00000
EAST_LONGITUDE: -112 3 45.00000
NORTH_LATITUDE: 47 7 30.00000
SOUTH_LATITUDE: 47 3 45.00000
PRODUCTION_DATE: 1998 12 28
RASTER_ORDER: LEFT_RIGHT/TOP_BOTTOM
BAND_ORGANIZATION: SINGLE FILE
BAND_CONTENT: BLACK&WHITE
BAND_CONTENT: UNDEFINED
BAND_CONTENT: UNDEFINED
BITS_PER_PIXEL: 8
SAMPLES_AND_LINES: 5550 7620
HORIZONTAL_DATUM: NAD83
HORIZONTAL_COORDINATE_SYSTEM: UTM
COORDINATE_ZONE: 12
HORIZONTAL_UNITS: METERS
HORIZONTAL_RESOLUTION: 1.00000
SECONDARY_HORIZONTAL_DATUM: NAD27
XY_ORIGIN: 414180.00000 5219970.00000
SECONDARY_XY_ORIGIN: 414241.16500 5219756.67800
NATION: US
STATE: MT
NW_QUAD_CORNER_XY: 414671.30400 5219669.00600
NE_QUAD_CORNER_XY: 419411.74600 5219602.68100
SE_QUAD_CORNERY_XY: 419317.39600 5212657.25400
SW_QUAD_CORNER_XY: 414571.40200 5212723.59000
SECONDARY_NW_QUAD_XY: 414668.66700 5219450.43600
SECONDARY_NE_QUAD_XY: 419409.25600 5219384.10900
SECONDARY_SE_QUAD_XY: 419314.90600 5212438.70900
SECONDARY_SW_QUAD_XY: 414568.76600 5212505.04600
RMSE_XY: 2.38000
IMAGE_SOURCE: BLACK AND WHITE FILM
SOURCE_IMAGE_ID: NAPP 8388 57
SOURCE_IMAGE_DATE: 1995 08 09
SOURCE_IMAGE_ID: NAPP 8388 64
SOURCE_IMAGE_DATE: 1995 08 09
SOURCE_DEM_DATE: 1998 01 01
AGENCY: WESTERN MAPPING CENTER (WMC)
PRODUCER: ANALYTICAL SURVEYS INC.
PRODUCTION_SYSTEM: ORBIT OR_RECTIFY V.5.2
COMPRESSION: UNDEFINED
STANDARD_VERSION: 1996 12
METADATA_DATE: 1999 01 04
DATA_FILE_SIZE: 42296550
BYTE_COUNT: 5550
