FILENAME: O4711264.SES.956542.tif
QUADRANGLE_NAME: WOLF CREEK
QUADRANT: SE
WEST_LONGITUDE: -112 3 45.00000
EAST_LONGITUDE: -112 0 0.00000
NORTH_LATITUDE: 47 3 45.00000
SOUTH_LATITUDE: 47 0 0.00000
PRODUCTION_DATE: 1998 12 28
RASTER_ORDER: LEFT_RIGHT/TOP_BOTTOM
BAND_ORGANIZATION: SINGLE FILE
BAND_CONTENT: BLACK&WHITE
BAND_CONTENT: UNDEFINED
BAND_CONTENT: UNDEFINED
BITS_PER_PIXEL: 8
SAMPLES_AND_LINES: 5550 7650
HORIZONTAL_DATUM: NAD83
HORIZONTAL_COORDINATE_SYSTEM: UTM
COORDINATE_ZONE: 12
HORIZONTAL_UNITS: METERS
HORIZONTAL_RESOLUTION: 1.00000
SECONDARY_HORIZONTAL_DATUM: NAD27
XY_ORIGIN: 418830.00000 5212980.00000
SECONDARY_XY_ORIGIN: 418891.10100 5212766.82900
NATION: US
STATE: MT
NW_QUAD_CORNER_XY: 419317.39600 5212657.25400
NE_QUAD_CORNER_XY: 424063.39600 5212594.71100
SE_QUAD_CORNERY_XY: 423974.68800 5205649.34800
SW_QUAD_CORNER_XY: 419223.14200 5205711.90100
SECONDARY_NW_QUAD_XY: 419314.90600 5212438.70900
SECONDARY_NE_QUAD_XY: 424061.05300 5212376.16300
SECONDARY_SE_QUAD_XY: 423972.34500 5205430.82800
SECONDARY_SW_QUAD_XY: 419220.65300 5205493.38300
RMSE_XY: 1.50000
IMAGE_SOURCE: BLACK AND WHITE FILM
SOURCE_IMAGE_ID: NAPP 8388 20
SOURCE_IMAGE_DATE: 1995 08 09
SOURCE_DEM_DATE: 1998 01 01
AGENCY: WESTERN MAPPING CENTER (WMC)
PRODUCER: ANALYTICAL SURVEYS INC.
PRODUCTION_SYSTEM: ORBIT OR_RECTIFY V.5.2
COMPRESSION: UNDEFINED
STANDARD_VERSION: 1996 12
METADATA_DATE: 1999 01 04
DATA_FILE_SIZE: 42463050
BYTE_COUNT: 5550
