FILENAME: O4711263.SES.956506.tif
QUADRANGLE_NAME: ROBERTS MOUNTAIN
QUADRANT: SE
WEST_LONGITUDE: -112 11 15.00000
EAST_LONGITUDE: -112 7 30.00000
NORTH_LATITUDE: 47 3 45.00000
SOUTH_LATITUDE: 47 0 0.00000
PRODUCTION_DATE: 1998 12 27
RASTER_ORDER: LEFT_RIGHT/TOP_BOTTOM
BAND_ORGANIZATION: SINGLE FILE
BAND_CONTENT: BLACK&WHITE
BAND_CONTENT: UNDEFINED
BAND_CONTENT: UNDEFINED
BITS_PER_PIXEL: 8
SAMPLES_AND_LINES: 5550 7650
HORIZONTAL_DATUM: NAD83
HORIZONTAL_COORDINATE_SYSTEM: UTM
COORDINATE_ZONE: 12
HORIZONTAL_UNITS: METERS
HORIZONTAL_RESOLUTION: 1.00000
SECONDARY_HORIZONTAL_DATUM: NAD27
XY_ORIGIN: 409350.00000 5213100.00000
SECONDARY_XY_ORIGIN: 409411.37300 5212886.77300
NATION: US
STATE: MT
NW_QUAD_CORNER_XY: 409825.41600 5212793.71600
NE_QUAD_CORNER_XY: 414571.40200 5212723.59000
SE_QUAD_CORNERY_XY: 414471.60300 5205778.24600
SW_QUAD_CORNER_XY: 409720.07000 5205848.38400
SECONDARY_NW_QUAD_XY: 409822.63300 5212575.17500
SECONDARY_NE_QUAD_XY: 414568.76600 5212505.04600
SECONDARY_SE_QUAD_XY: 414468.96700 5205559.73100
SECONDARY_SW_QUAD_XY: 409717.28800 5205629.87000
RMSE_XY: 2.43000
IMAGE_SOURCE: BLACK AND WHITE FILM
SOURCE_IMAGE_ID: NAPP 8388 66
SOURCE_IMAGE_DATE: 1995 08 09
SOURCE_DEM_DATE: 1956 00 00
AGENCY: WESTERN MAPPING CENTER (WMC)
PRODUCER: ANALYTICAL SURVEYS INC.
PRODUCTION_SYSTEM: ORBIT OR_RECTIFY V.5.2
COMPRESSION: UNDEFINED
STANDARD_VERSION: 1996 12
METADATA_DATE: 1999 01 05
DATA_FILE_SIZE: 42463050
BYTE_COUNT: 5550
