FILENAME: O4711263.SWS.956507.tif
QUADRANGLE_NAME: ROBERTS MOUNTAIN
QUADRANT: SW
WEST_LONGITUDE: -112 15 0.00000
EAST_LONGITUDE: -112 11 15.00000
NORTH_LATITUDE: 47 3 45.00000
SOUTH_LATITUDE: 47 0 0.00000
PRODUCTION_DATE: 1998 12 27
RASTER_ORDER: LEFT_RIGHT/TOP_BOTTOM
BAND_ORGANIZATION: SINGLE FILE
BAND_CONTENT: BLACK&WHITE
BAND_CONTENT: UNDEFINED
BAND_CONTENT: UNDEFINED
BITS_PER_PIXEL: 8
SAMPLES_AND_LINES: 5550 7650
HORIZONTAL_DATUM: NAD83
HORIZONTAL_COORDINATE_SYSTEM: UTM
COORDINATE_ZONE: 12
HORIZONTAL_UNITS: METERS
HORIZONTAL_RESOLUTION: 1.00000
SECONDARY_HORIZONTAL_DATUM: NAD27
XY_ORIGIN: 404580.00000 5213190.00000
SECONDARY_XY_ORIGIN: 404641.50900 5212976.74300
NATION: US
STATE: MT
NW_QUAD_CORNER_XY: 405079.43700 5212867.63500
NE_QUAD_CORNER_XY: 409825.41600 5212793.71600
SE_QUAD_CORNERY_XY: 409720.07000 5205848.38400
SW_QUAD_CORNER_XY: 404968.54600 5205922.31300
SECONDARY_NW_QUAD_XY: 405076.50800 5212649.09600
SECONDARY_NE_QUAD_XY: 409822.63300 5212575.17500
SECONDARY_SE_QUAD_XY: 409717.28800 5205629.87000
SECONDARY_SW_QUAD_XY: 404965.61700 5205703.80200
RMSE_XY: 2.85000
IMAGE_SOURCE: BLACK AND WHITE FILM
SOURCE_IMAGE_ID: NAPP 9486 234
SOURCE_IMAGE_DATE: 1995 08 20
SOURCE_IMAGE_ID: NAPP 8388 66
SOURCE_IMAGE_DATE: 1995 08 09
SOURCE_DEM_DATE: 1956 00 00
AGENCY: WESTERN MAPPING CENTER (WMC)
PRODUCER: ANALYTICAL SURVEYS INC.
PRODUCTION_SYSTEM: ORBIT OR_RECTIFY V.5.2
COMPRESSION: UNDEFINED
STANDARD_VERSION: 1996 12
METADATA_DATE: 1999 01 05
DATA_FILE_SIZE: 42463050
BYTE_COUNT: 5550
