FILENAME: O4711262.SES.965079.tif
QUADRANGLE_NAME: ROGERS PASS
QUADRANT: SE
WEST_LONGITUDE: -112 18 45.00000
EAST_LONGITUDE: -112 15 0.00000
NORTH_LATITUDE: 47 3 45.00000
SOUTH_LATITUDE: 47 0 0.00000
PRODUCTION_DATE: 1998 12 28
RASTER_ORDER: LEFT_RIGHT/TOP_BOTTOM
BAND_ORGANIZATION: SINGLE FILE
BAND_CONTENT: BLACK&WHITE
BAND_CONTENT: UNDEFINED
BAND_CONTENT: UNDEFINED
BITS_PER_PIXEL: 8
SAMPLES_AND_LINES: 5550 7650
HORIZONTAL_DATUM: NAD83
HORIZONTAL_COORDINATE_SYSTEM: UTM
COORDINATE_ZONE: 12
HORIZONTAL_UNITS: METERS
HORIZONTAL_RESOLUTION: 1.00000
SECONDARY_HORIZONTAL_DATUM: NAD27
XY_ORIGIN: 399840.00000 5213250.00000
SECONDARY_XY_ORIGIN: 399901.67900 5213036.68500
NATION: US
STATE: MT
NW_QUAD_CORNER_XY: 400333.46600 5212945.34500
NE_QUAD_CORNER_XY: 405079.43700 5212867.63500
SE_QUAD_CORNERY_XY: 404968.54600 5205922.31300
SW_QUAD_CORNER_XY: 400217.02800 5206000.03500
SECONDARY_NW_QUAD_XY: 400330.39000 5212726.80800
SECONDARY_NE_QUAD_XY: 405076.50800 5212649.09600
SECONDARY_SE_QUAD_XY: 404965.61700 5205703.80200
SECONDARY_SW_QUAD_XY: 400213.95300 5205781.52700
RMSE_XY: 3.59000
IMAGE_SOURCE: BLACK AND WHITE FILM
SOURCE_IMAGE_ID: NAPP 9486 223
SOURCE_IMAGE_DATE: 1995 08 20
SOURCE_IMAGE_ID: NAPP 9486 225
SOURCE_IMAGE_DATE: 1995 08 20
SOURCE_IMAGE_ID: NAPP 9486 221
SOURCE_IMAGE_DATE: 1995 08 20
SOURCE_DEM_DATE: 1998 01 01
AGENCY: WESTERN MAPPING CENTER (WMC)
PRODUCER: ANALYTICAL SURVEYS INC.
PRODUCTION_SYSTEM: ORBIT OR_RECTIFY V.5.2
COMPRESSION: UNDEFINED
STANDARD_VERSION: 1996 12
METADATA_DATE: 1998 12 30
DATA_FILE_SIZE: 42463050
BYTE_COUNT: 5550
