FILENAME: O4711261.NWS.965185.tif
QUADRANGLE_NAME: CADOTTE CREEK
QUADRANT: NW
WEST_LONGITUDE: -112 30 0.00000
EAST_LONGITUDE: -112 26 15.00000
NORTH_LATITUDE: 47 7 30.00000
SOUTH_LATITUDE: 47 3 45.00000
PRODUCTION_DATE: 1998 12 23
RASTER_ORDER: LEFT_RIGHT/TOP_BOTTOM
BAND_ORGANIZATION: SINGLE FILE
BAND_CONTENT: BLACK&WHITE
BAND_CONTENT: UNDEFINED
BAND_CONTENT: UNDEFINED
BITS_PER_PIXEL: 8
SAMPLES_AND_LINES: 5580 7650
HORIZONTAL_DATUM: NAD83
HORIZONTAL_COORDINATE_SYSTEM: UTM
COORDINATE_ZONE: 12
HORIZONTAL_UNITS: METERS
HORIZONTAL_RESOLUTION: 1.00000
SECONDARY_HORIZONTAL_DATUM: NAD27
XY_ORIGIN: 385710.00000 5220450.00000
SECONDARY_XY_ORIGIN: 385772.05300 5220236.45000
NATION: US
STATE: MT
NW_QUAD_CORNER_XY: 386228.81900 5220146.57000
NE_QUAD_CORNER_XY: 390969.21100 5220057.49700
SE_QUAD_CORNERY_XY: 390841.55000 5213112.14100
SW_QUAD_CORNER_XY: 386095.60500 5213201.22800
SECONDARY_NW_QUAD_XY: 386225.30400 5219928.01400
SECONDARY_NE_QUAD_XY: 390965.84200 5219838.93800
SECONDARY_SE_QUAD_XY: 390838.18100 5212893.61000
SECONDARY_SW_QUAD_XY: 386092.09000 5212982.69900
RMSE_XY: 2.08000
IMAGE_SOURCE: BLACK AND WHITE FILM
SOURCE_IMAGE_ID: NAPP 9486 170
SOURCE_IMAGE_DATE: 1995 08 20
SOURCE_IMAGE_ID: NAPP 9486 172
SOURCE_IMAGE_DATE: 1995 08 20
SOURCE_DEM_DATE: 1991 00 00
AGENCY: WESTERN MAPPING CENTER (WMC)
PRODUCER: ANALYTICAL SURVEYS INC.
PRODUCTION_SYSTEM: ORBIT OR_RECTIFY V.5.2
COMPRESSION: UNDEFINED
STANDARD_VERSION: 1996 12
METADATA_DATE: 1999 02 03
DATA_FILE_SIZE: 42692580
BYTE_COUNT: 5580
