FILENAME: O4711260.NWS.965173.tif
QUADRANGLE_NAME: SILVER KING MOUNTAIN
QUADRANT: NW
WEST_LONGITUDE: -112 37 30.00000
EAST_LONGITUDE: -112 33 45.00000
NORTH_LATITUDE: 47 7 30.00000
SOUTH_LATITUDE: 47 3 45.00000
PRODUCTION_DATE: 1998 12 23
RASTER_ORDER: LEFT_RIGHT/TOP_BOTTOM
BAND_ORGANIZATION: SINGLE FILE
BAND_CONTENT: BLACK&WHITE
BAND_CONTENT: UNDEFINED
BAND_CONTENT: UNDEFINED
BITS_PER_PIXEL: 8
SAMPLES_AND_LINES: 5580 7680
HORIZONTAL_DATUM: NAD83
HORIZONTAL_COORDINATE_SYSTEM: UTM
COORDINATE_ZONE: 12
HORIZONTAL_UNITS: METERS
HORIZONTAL_RESOLUTION: 1.00000
SECONDARY_HORIZONTAL_DATUM: NAD27
XY_ORIGIN: 376230.00000 5220660.00000
SECONDARY_XY_ORIGIN: 376292.27700 5220446.45600
NATION: US
STATE: MT
NW_QUAD_CORNER_XY: 376748.06600 5220336.09100
NE_QUAD_CORNER_XY: 381488.43700 5220239.43400
SE_QUAD_CORNERY_XY: 381349.67000 5213294.10700
SW_QUAD_CORNER_XY: 376603.74500 5213390.77900
SECONDARY_NW_QUAD_XY: 376744.25700 5220117.54100
SECONDARY_NE_QUAD_XY: 381484.77500 5220020.88100
SECONDARY_SE_QUAD_XY: 381346.00900 5213075.58100
SECONDARY_SW_QUAD_XY: 376599.93700 5213172.25600
RMSE_XY: 1.45000
IMAGE_SOURCE: BLACK AND WHITE FILM
SOURCE_IMAGE_ID: NAPP 8386 29
SOURCE_IMAGE_DATE: 1995 08 05
SOURCE_DEM_DATE: 1997 00 00
AGENCY: WESTERN MAPPING CENTER (WMC)
PRODUCER: ANALYTICAL SURVEYS INC.
PRODUCTION_SYSTEM: ORBIT OR_RECTIFY V.5.2
COMPRESSION: UNDEFINED
STANDARD_VERSION: 1996 12
METADATA_DATE: 1999 02 03
DATA_FILE_SIZE: 42859980
BYTE_COUNT: 5580
