FILENAME: O4711259.NES.965160.tif
QUADRANGLE_NAME: STONEWALL MOUNTAIN
QUADRANT: NE
WEST_LONGITUDE: -112 41 15.00000
EAST_LONGITUDE: -112 37 30.00000
NORTH_LATITUDE: 47 7 30.00000
SOUTH_LATITUDE: 47 3 45.00000
PRODUCTION_DATE: 1998 12 22
RASTER_ORDER: LEFT_RIGHT/TOP_BOTTOM
BAND_ORGANIZATION: SINGLE FILE
BAND_CONTENT: BLACK&WHITE
BAND_CONTENT: UNDEFINED
BAND_CONTENT: UNDEFINED
BITS_PER_PIXEL: 8
SAMPLES_AND_LINES: 5580 7680
HORIZONTAL_DATUM: NAD83
HORIZONTAL_COORDINATE_SYSTEM: UTM
COORDINATE_ZONE: 12
HORIZONTAL_UNITS: METERS
HORIZONTAL_RESOLUTION: 1.00000
SECONDARY_HORIZONTAL_DATUM: NAD27
XY_ORIGIN: 371490.00000 5220750.00000
SECONDARY_XY_ORIGIN: 371552.39200 5220536.45400
NATION: US
STATE: MT
NW_QUAD_CORNER_XY: 372007.70500 5220436.54000
NE_QUAD_CORNER_XY: 376748.06600 5220336.09100
SE_QUAD_CORNERY_XY: 376603.74500 5213390.77900
SW_QUAD_CORNER_XY: 371857.83100 5213491.24300
SECONDARY_NW_QUAD_XY: 372003.75000 5220217.99300
SECONDARY_NE_QUAD_XY: 376744.25700 5220117.54100
SECONDARY_SE_QUAD_XY: 376599.93700 5213172.25600
SECONDARY_SW_QUAD_XY: 371853.87600 5213272.72400
RMSE_XY: 2.05000
IMAGE_SOURCE: BLACK AND WHITE FILM
SOURCE_IMAGE_ID: NAPP 8386 68
SOURCE_IMAGE_DATE: 1995 08 05
SOURCE_IMAGE_ID: NAPP 8386 66
SOURCE_IMAGE_DATE: 1995 08 05
SOURCE_IMAGE_ID: NAPP 8386 133
SOURCE_IMAGE_DATE: 1995 08 05
SOURCE_DEM_DATE: 1997 00 00
AGENCY: WESTERN MAPPING CENTER (WMC)
PRODUCER: ANALYTICAL SURVEYS INC.
PRODUCTION_SYSTEM: ORBIT OR_RECTIFY V.5.2
COMPRESSION: UNDEFINED
STANDARD_VERSION: 1996 12
METADATA_DATE: 1999 02 03
DATA_FILE_SIZE: 42859980
BYTE_COUNT: 5580
