FILENAME: O4711258.SWS.949843.tif
QUADRANGLE_NAME: ARRASTRA MOUNTAIN
QUADRANT: SW
WEST_LONGITUDE: -112 52 30.00000
EAST_LONGITUDE: -112 48 45.00000
NORTH_LATITUDE: 47 3 45.00000
SOUTH_LATITUDE: 47 0 0.00000
PRODUCTION_DATE: 1998 12 18
RASTER_ORDER: LEFT_RIGHT/TOP_BOTTOM
BAND_ORGANIZATION: SINGLE FILE
BAND_CONTENT: BLACK&WHITE
BAND_CONTENT: UNDEFINED
BAND_CONTENT: UNDEFINED
BITS_PER_PIXEL: 8
SAMPLES_AND_LINES: 5610 7680
HORIZONTAL_DATUM: NAD83
HORIZONTAL_COORDINATE_SYSTEM: UTM
COORDINATE_ZONE: 12
HORIZONTAL_UNITS: METERS
HORIZONTAL_RESOLUTION: 1.00000
SECONDARY_HORIZONTAL_DATUM: NAD27
XY_ORIGIN: 357060.00000 5214120.00000
SECONDARY_XY_ORIGIN: 357122.66100 5213906.47300
NATION: US
STATE: MT
NW_QUAD_CORNER_XY: 357620.15400 5213815.39700
NE_QUAD_CORNER_XY: 362366.03500 5213703.55200
SE_QUAD_CORNERY_XY: 362205.21700 5206758.35800
SW_QUAD_CORNER_XY: 357453.78700 5206870.22000
SECONDARY_NW_QUAD_XY: 357615.76000 5213596.88700
SECONDARY_NE_QUAD_XY: 362361.78700 5213485.03900
SECONDARY_SE_QUAD_XY: 362200.97000 5206539.87300
SECONDARY_SW_QUAD_XY: 357449.39400 5206651.73800
RMSE_XY: 1.97000
IMAGE_SOURCE: BLACK AND WHITE FILM
SOURCE_IMAGE_ID: NAPP 9491 76
SOURCE_IMAGE_DATE: 1995 09 01
SOURCE_IMAGE_ID: NAPP 9491 74
SOURCE_IMAGE_DATE: 1995 09 01
SOURCE_DEM_DATE: 1989 00 00
AGENCY: WESTERN MAPPING CENTER (WMC)
PRODUCER: ANALYTICAL SURVEYS INC.
PRODUCTION_SYSTEM: ORBIT OR_RECTIFY V.5.2
COMPRESSION: UNDEFINED
STANDARD_VERSION: 1996 12
METADATA_DATE: 1998 12 28
DATA_FILE_SIZE: 43090410
BYTE_COUNT: 5610
