FILENAME: O4711257.SES.1078921.tif
QUADRANGLE_NAME: COOPERS LAKE
QUADRANT: SE
WEST_LONGITUDE: -112 56 15.00000
EAST_LONGITUDE: -112 52 30.00000
NORTH_LATITUDE: 47 3 45.00000
SOUTH_LATITUDE: 47 0 0.00000
PRODUCTION_DATE: 2000 5 22
RASTER_ORDER: LEFT_RIGHT/TOP_BOTTOM
BAND_ORGANIZATION: SINGLE FILE
BAND_CONTENT: BLACK&WHITE
BAND_CONTENT: UNDEFINED
BAND_CONTENT: UNDEFINED
BITS_PER_PIXEL: 8
SAMPLES_AND_LINES: 5588 7669
HORIZONTAL_DATUM: NAD83
HORIZONTAL_COORDINATE_SYSTEM: UTM
COORDINATE_ZONE: 12
HORIZONTAL_UNITS: METERS
HORIZONTAL_RESOLUTION: 1.00000
SECONDARY_HORIZONTAL_DATUM: NAD27
XY_ORIGIN: 352334.00000 5214232.00000
SECONDARY_XY_ORIGIN: 352396.67100 5214018.44100
NATION: US
NATION: "SCIENCE
STATE: MT
NW_QUAD_CORNER_XY: 352874.28500 5213931.03600
NE_QUAD_CORNER_XY: 357620.15400 5213815.39700
SE_QUAD_CORNERY_XY: 357453.78700 5206870.22000
SW_QUAD_CORNER_XY: 352702.36900 5206985.87600
SECONDARY_NW_QUAD_XY: 352869.74400 5213712.52900
SECONDARY_NE_QUAD_XY: 357615.76000 5213596.88700
SECONDARY_SE_QUAD_XY: 357449.39400 5206651.73800
SECONDARY_SW_QUAD_XY: 352697.82900 5206767.39800
RMSE_XY: 1.60000
IMAGE_SOURCE: BLACK AND WHITE FILM
SOURCE_IMAGE_ID: NAPP 9489 049
SOURCE_IMAGE_DATE: 1995 08 28
SOURCE_IMAGE_ID: NAPP 9489 019
SOURCE_IMAGE_DATE: 1995 08 28
SOURCE_IMAGE_ID: NAPP 9491 078
SOURCE_IMAGE_DATE: 1995 09 01
SOURCE_IMAGE_ID: NAPP 9489 048
SOURCE_IMAGE_DATE: 1995 08 28
SOURCE_DEM_DATE: 1998 00 00
AGENCY: WESTERN MAPPING CENTER (WMC)
PRODUCER: UNDEFINED
PRODUCTION_SYSTEM: GIS/MAGIC
COMPRESSION: UNDEFINED
STANDARD_VERSION: 1996 12
METADATA_DATE: 2000 05 27
DATA_FILE_SIZE: 42859960
BYTE_COUNT: 5588
