FILENAME: O4711256.SES.956538.tif
QUADRANGLE_NAME: COBURN MOUNTAIN
QUADRANT: SE
WEST_LONGITUDE: -112 3 45.00000
EAST_LONGITUDE: -112 0 0.00000
NORTH_LATITUDE: 47 11 15.00000
SOUTH_LATITUDE: 47 7 30.00000
PRODUCTION_DATE: 1998 12 28
RASTER_ORDER: LEFT_RIGHT/TOP_BOTTOM
BAND_ORGANIZATION: SINGLE FILE
BAND_CONTENT: BLACK&WHITE
BAND_CONTENT: UNDEFINED
BAND_CONTENT: UNDEFINED
BITS_PER_PIXEL: 8
SAMPLES_AND_LINES: 5520 7650
HORIZONTAL_DATUM: NAD83
HORIZONTAL_COORDINATE_SYSTEM: UTM
COORDINATE_ZONE: 12
HORIZONTAL_UNITS: METERS
HORIZONTAL_RESOLUTION: 1.00000
SECONDARY_HORIZONTAL_DATUM: NAD27
XY_ORIGIN: 419040.00000 5226870.00000
SECONDARY_XY_ORIGIN: 419100.96200 5226656.57200
NATION: US
STATE: MT
NW_QUAD_CORNER_XY: 419506.19300 5226548.18200
NE_QUAD_CORNER_XY: 424241.08600 5226485.65800
SE_QUAD_CORNERY_XY: 424152.19600 5219540.14700
SW_QUAD_CORNER_XY: 419411.74600 5219602.68100
SECONDARY_NW_QUAD_XY: 419503.70300 5226329.58300
SECONDARY_NE_QUAD_XY: 424238.74200 5226267.05700
SECONDARY_SE_QUAD_XY: 424149.85200 5219321.57300
SECONDARY_SW_QUAD_XY: 419409.25600 5219384.10900
RMSE_XY: 2.00000
IMAGE_SOURCE: BLACK AND WHITE FILM
SOURCE_IMAGE_ID: NAPP 8388 16
SOURCE_IMAGE_DATE: 1995 08 09
SOURCE_IMAGE_ID: NAPP 8388 14
SOURCE_IMAGE_DATE: 1995 08 09
SOURCE_DEM_DATE: 1993 00 00
AGENCY: WESTERN MAPPING CENTER (WMC)
PRODUCER: ANALYTICAL SURVEYS INC.
PRODUCTION_SYSTEM: ORBIT OR_RECTIFY V.5.2
COMPRESSION: UNDEFINED
STANDARD_VERSION: 1996 12
METADATA_DATE: 1999 01 04
DATA_FILE_SIZE: 42233520
BYTE_COUNT: 5520
