FILENAME: O4711256.SWS.956539.tif
QUADRANGLE_NAME: COBURN MOUNTAIN
QUADRANT: SW
WEST_LONGITUDE: -112 7 30.00000
EAST_LONGITUDE: -112 3 45.00000
NORTH_LATITUDE: 47 11 15.00000
SOUTH_LATITUDE: 47 7 30.00000
PRODUCTION_DATE: 1998 12 28
RASTER_ORDER: LEFT_RIGHT/TOP_BOTTOM
BAND_ORGANIZATION: SINGLE FILE
BAND_CONTENT: BLACK&WHITE
BAND_CONTENT: UNDEFINED
BAND_CONTENT: UNDEFINED
BITS_PER_PIXEL: 8
SAMPLES_AND_LINES: 5520 7650
HORIZONTAL_DATUM: NAD83
HORIZONTAL_COORDINATE_SYSTEM: UTM
COORDINATE_ZONE: 12
HORIZONTAL_UNITS: METERS
HORIZONTAL_RESOLUTION: 1.00000
SECONDARY_HORIZONTAL_DATUM: NAD27
XY_ORIGIN: 414300.00000 5226930.00000
SECONDARY_XY_ORIGIN: 414361.09100 5226716.55600
NATION: US
STATE: MT
NW_QUAD_CORNER_XY: 414771.30800 5226614.49600
NE_QUAD_CORNER_XY: 419506.19300 5226548.18200
SE_QUAD_CORNERY_XY: 419411.74600 5219602.68100
SW_QUAD_CORNER_XY: 414671.30400 5219669.00600
SECONDARY_NW_QUAD_XY: 414768.67100 5226395.89900
SECONDARY_NE_QUAD_XY: 419503.70300 5226329.58300
SECONDARY_SE_QUAD_XY: 419409.25600 5219384.10900
SECONDARY_SW_QUAD_XY: 414668.66700 5219450.43600
RMSE_XY: 2.61000
IMAGE_SOURCE: BLACK AND WHITE FILM
SOURCE_IMAGE_ID: NAPP 8388 59
SOURCE_IMAGE_DATE: 1995 08 09
SOURCE_DEM_DATE: 1993 00 00
AGENCY: WESTERN MAPPING CENTER (WMC)
PRODUCER: ANALYTICAL SURVEYS INC.
PRODUCTION_SYSTEM: ORBIT OR_RECTIFY V.5.2
COMPRESSION: UNDEFINED
STANDARD_VERSION: 1996 12
METADATA_DATE: 1999 01 04
DATA_FILE_SIZE: 42233520
BYTE_COUNT: 5520
