FILENAME: O4711255.NWS.956501.tif
QUADRANGLE_NAME: COMB ROCK
QUADRANT: NW
WEST_LONGITUDE: -112 15 0.00000
EAST_LONGITUDE: -112 11 15.00000
NORTH_LATITUDE: 47 15 0.00000
SOUTH_LATITUDE: 47 11 15.00000
PRODUCTION_DATE: 1998 12 27
RASTER_ORDER: LEFT_RIGHT/TOP_BOTTOM
BAND_ORGANIZATION: SINGLE FILE
BAND_CONTENT: BLACK&WHITE
BAND_CONTENT: UNDEFINED
BAND_CONTENT: UNDEFINED
BITS_PER_PIXEL: 8
SAMPLES_AND_LINES: 5550 7650
HORIZONTAL_DATUM: NAD83
HORIZONTAL_COORDINATE_SYSTEM: UTM
COORDINATE_ZONE: 12
HORIZONTAL_UNITS: METERS
HORIZONTAL_RESOLUTION: 1.00000
SECONDARY_HORIZONTAL_DATUM: NAD27
XY_ORIGIN: 404910.00000 5234010.00000
SECONDARY_XY_ORIGIN: 404971.26900 5233796.41200
NATION: US
STATE: MT
NW_QUAD_CORNER_XY: 405412.79300 5233704.03500
NE_QUAD_CORNER_XY: 410142.09900 5233630.15200
SE_QUAD_CORNERY_XY: 410036.43000 5226684.60100
SW_QUAD_CORNER_XY: 405301.56000 5226758.49500
SECONDARY_NW_QUAD_XY: 405409.86200 5233485.41700
SECONDARY_NE_QUAD_XY: 410139.31500 5233411.53200
SECONDARY_SE_QUAD_XY: 410033.64700 5226466.00600
SECONDARY_SW_QUAD_XY: 405298.63000 5226539.90300
RMSE_XY: 3.95000
IMAGE_SOURCE: BLACK AND WHITE FILM
SOURCE_IMAGE_ID: NAPP 8384 28
SOURCE_IMAGE_DATE: 1995 08 04
SOURCE_DEM_DATE: 1998 01 01
AGENCY: WESTERN MAPPING CENTER (WMC)
PRODUCER: ANALYTICAL SURVEYS INC.
PRODUCTION_SYSTEM: ORBIT OR_RECTIFY V.5.2
COMPRESSION: UNDEFINED
STANDARD_VERSION: 1996 12
METADATA_DATE: 1999 01 05
DATA_FILE_SIZE: 42463050
BYTE_COUNT: 5550
