FILENAME: O4711255.SWS.956503.tif
QUADRANGLE_NAME: COMB ROCK
QUADRANT: SW
WEST_LONGITUDE: -112 15 0.00000
EAST_LONGITUDE: -112 11 15.00000
NORTH_LATITUDE: 47 11 15.00000
SOUTH_LATITUDE: 47 7 30.00000
PRODUCTION_DATE: 1998 12 27
RASTER_ORDER: LEFT_RIGHT/TOP_BOTTOM
BAND_ORGANIZATION: SINGLE FILE
BAND_CONTENT: BLACK&WHITE
BAND_CONTENT: UNDEFINED
BAND_CONTENT: UNDEFINED
BITS_PER_PIXEL: 8
SAMPLES_AND_LINES: 5520 7650
HORIZONTAL_DATUM: NAD83
HORIZONTAL_COORDINATE_SYSTEM: UTM
COORDINATE_ZONE: 12
HORIZONTAL_UNITS: METERS
HORIZONTAL_RESOLUTION: 1.00000
SECONDARY_HORIZONTAL_DATUM: NAD27
XY_ORIGIN: 404820.00000 5227080.00000
SECONDARY_XY_ORIGIN: 404881.34900 5226866.52100
NATION: US
STATE: MT
NW_QUAD_CORNER_XY: 405301.56000 5226758.49500
NE_QUAD_CORNER_XY: 410036.43000 5226684.60100
SE_QUAD_CORNERY_XY: 409930.86900 5219739.12200
SW_QUAD_CORNER_XY: 405190.44200 5219813.02900
SECONDARY_NW_QUAD_XY: 405298.63000 5226539.90300
SECONDARY_NE_QUAD_XY: 410033.64700 5226466.00600
SECONDARY_SE_QUAD_XY: 409928.08600 5219520.55400
SECONDARY_SW_QUAD_XY: 405187.51200 5219594.46300
RMSE_XY: 2.03000
IMAGE_SOURCE: BLACK AND WHITE FILM
SOURCE_IMAGE_ID: NAPP 8384 30
SOURCE_IMAGE_DATE: 1995 08 04
SOURCE_IMAGE_ID: NAPP 9486 232
SOURCE_IMAGE_DATE: 1995 08 20
SOURCE_DEM_DATE: 1998 01 01
AGENCY: WESTERN MAPPING CENTER (WMC)
PRODUCER: ANALYTICAL SURVEYS INC.
PRODUCTION_SYSTEM: ORBIT OR_RECTIFY V.5.2
COMPRESSION: UNDEFINED
STANDARD_VERSION: 1996 12
METADATA_DATE: 1999 01 05
DATA_FILE_SIZE: 42233520
BYTE_COUNT: 5520
