FILENAME: O4711254.SES.965074.tif
QUADRANGLE_NAME: JOHNSON MOUNTAIN
QUADRANT: SE
WEST_LONGITUDE: -112 18 45.00000
EAST_LONGITUDE: -112 15 0.00000
NORTH_LATITUDE: 47 11 15.00000
SOUTH_LATITUDE: 47 7 30.00000
PRODUCTION_DATE: 1998 12 28
RASTER_ORDER: LEFT_RIGHT/TOP_BOTTOM
BAND_ORGANIZATION: SINGLE FILE
BAND_CONTENT: BLACK&WHITE
BAND_CONTENT: UNDEFINED
BAND_CONTENT: UNDEFINED
BITS_PER_PIXEL: 8
SAMPLES_AND_LINES: 5550 7650
HORIZONTAL_DATUM: NAD83
HORIZONTAL_COORDINATE_SYSTEM: UTM
COORDINATE_ZONE: 12
HORIZONTAL_UNITS: METERS
HORIZONTAL_RESOLUTION: 1.00000
SECONDARY_HORIZONTAL_DATUM: NAD27
XY_ORIGIN: 400080.00000 5227140.00000
SECONDARY_XY_ORIGIN: 400141.49700 5226926.48500
NATION: US
STATE: MT
NW_QUAD_CORNER_XY: 400566.69900 5226836.18100
NE_QUAD_CORNER_XY: 405301.56000 5226758.49500
SE_QUAD_CORNERY_XY: 405190.44200 5219813.02900
SW_QUAD_CORNER_XY: 400450.02300 5219890.72700
SECONDARY_NW_QUAD_XY: 400563.62200 5226617.59100
SECONDARY_NE_QUAD_XY: 405298.63000 5226539.90300
SECONDARY_SE_QUAD_XY: 405187.51200 5219594.46300
SECONDARY_SW_QUAD_XY: 400446.94700 5219672.16300
RMSE_XY: 2.53000
IMAGE_SOURCE: BLACK AND WHITE FILM
SOURCE_IMAGE_ID: NAPP 9486 227
SOURCE_IMAGE_DATE: 1995 08 20
SOURCE_DEM_DATE: 1998 01 01
AGENCY: WESTERN MAPPING CENTER (WMC)
PRODUCER: ANALYTICAL SURVEYS INC.
PRODUCTION_SYSTEM: ORBIT OR_RECTIFY V.5.2
COMPRESSION: UNDEFINED
STANDARD_VERSION: 1996 12
METADATA_DATE: 1998 12 30
DATA_FILE_SIZE: 42463050
BYTE_COUNT: 5550
