FILENAME: O4711251.SES.965158.tif
QUADRANGLE_NAME: HEART LAKE
QUADRANT: SE
WEST_LONGITUDE: -112 41 15.00000
EAST_LONGITUDE: -112 37 30.00000
NORTH_LATITUDE: 47 11 15.00000
SOUTH_LATITUDE: 47 7 30.00000
PRODUCTION_DATE: 1998 12 22
RASTER_ORDER: LEFT_RIGHT/TOP_BOTTOM
BAND_ORGANIZATION: SINGLE FILE
BAND_CONTENT: BLACK&WHITE
BAND_CONTENT: UNDEFINED
BAND_CONTENT: UNDEFINED
BITS_PER_PIXEL: 8
SAMPLES_AND_LINES: 5580 7680
HORIZONTAL_DATUM: NAD83
HORIZONTAL_COORDINATE_SYSTEM: UTM
COORDINATE_ZONE: 12
HORIZONTAL_UNITS: METERS
HORIZONTAL_RESOLUTION: 1.00000
SECONDARY_HORIZONTAL_DATUM: NAD27
XY_ORIGIN: 371640.00000 5227710.00000
SECONDARY_XY_ORIGIN: 371702.24800 5227496.36800
NATION: US
STATE: MT
NW_QUAD_CORNER_XY: 372157.73300 5227381.90600
NE_QUAD_CORNER_XY: 376892.53400 5227281.47300
SE_QUAD_CORNERY_XY: 376748.06600 5220336.09100
SW_QUAD_CORNER_XY: 372007.70500 5220436.54000
SECONDARY_NW_QUAD_XY: 372153.77700 5227163.33200
SECONDARY_NE_QUAD_XY: 376888.72500 5227062.89700
SECONDARY_SE_QUAD_XY: 376744.25700 5220117.54100
SECONDARY_SW_QUAD_XY: 372003.75000 5220217.99300
RMSE_XY: 3.53000
IMAGE_SOURCE: BLACK AND WHITE FILM
SOURCE_IMAGE_ID: NAPP 8386 70
SOURCE_IMAGE_DATE: 1995 08 05
SOURCE_IMAGE_ID: NAPP 8386 71
SOURCE_IMAGE_DATE: 1995 08 05
SOURCE_IMAGE_ID: NAPP 8386 131
SOURCE_IMAGE_DATE: 1995 08 05
SOURCE_DEM_DATE: 1997 00 00
AGENCY: WESTERN MAPPING CENTER (WMC)
PRODUCER: ANALYTICAL SURVEYS INC.
PRODUCTION_SYSTEM: ORBIT OR_RECTIFY V.5.2
COMPRESSION: UNDEFINED
STANDARD_VERSION: 1996 12
METADATA_DATE: 1999 02 03
DATA_FILE_SIZE: 42859980
BYTE_COUNT: 5580
