FILENAME: O4711251.SWS.965159.tif
QUADRANGLE_NAME: HEART LAKE
QUADRANT: SW
WEST_LONGITUDE: -112 45 0.00000
EAST_LONGITUDE: -112 41 15.00000
NORTH_LATITUDE: 47 11 15.00000
SOUTH_LATITUDE: 47 7 30.00000
PRODUCTION_DATE: 1998 12 22
RASTER_ORDER: LEFT_RIGHT/TOP_BOTTOM
BAND_ORGANIZATION: SINGLE FILE
BAND_CONTENT: BLACK&WHITE
BAND_CONTENT: UNDEFINED
BAND_CONTENT: UNDEFINED
BITS_PER_PIXEL: 8
SAMPLES_AND_LINES: 5580 7680
HORIZONTAL_DATUM: NAD83
HORIZONTAL_COORDINATE_SYSTEM: UTM
COORDINATE_ZONE: 12
HORIZONTAL_UNITS: METERS
HORIZONTAL_RESOLUTION: 1.00000
SECONDARY_HORIZONTAL_DATUM: NAD27
XY_ORIGIN: 366900.00000 5227800.00000
SECONDARY_XY_ORIGIN: 366962.35600 5227586.36100
NATION: US
STATE: MT
NW_QUAD_CORNER_XY: 367422.94200 5227486.13000
NE_QUAD_CORNER_XY: 372157.73300 5227381.90600
SE_QUAD_CORNERY_XY: 372007.70500 5220436.54000
SW_QUAD_CORNER_XY: 367267.35500 5220540.78100
SECONDARY_NW_QUAD_XY: 367418.84000 5227267.56000
SECONDARY_NE_QUAD_XY: 372153.77700 5227163.33200
SECONDARY_SE_QUAD_XY: 372003.75000 5220217.99300
SECONDARY_SW_QUAD_XY: 367263.25400 5220322.23800
RMSE_XY: 2.93000
IMAGE_SOURCE: BLACK AND WHITE FILM
SOURCE_IMAGE_ID: NAPP 8386 131
SOURCE_IMAGE_DATE: 1995 08 05
SOURCE_IMAGE_ID: NAPP 8386 133
SOURCE_IMAGE_DATE: 1995 08 05
SOURCE_IMAGE_ID: NAPP 8386 70
SOURCE_IMAGE_DATE: 1995 08 05
SOURCE_IMAGE_ID: NAPP 8386 129
SOURCE_IMAGE_DATE: 1995 08 05
SOURCE_DEM_DATE: 1997 00 00
AGENCY: WESTERN MAPPING CENTER (WMC)
PRODUCER: ANALYTICAL SURVEYS INC.
PRODUCTION_SYSTEM: ORBIT OR_RECTIFY V.5.2
COMPRESSION: UNDEFINED
STANDARD_VERSION: 1996 12
METADATA_DATE: 1999 02 03
DATA_FILE_SIZE: 42859980
BYTE_COUNT: 5580
