FILENAME: O4711250.NES.949836.tif
QUADRANGLE_NAME: OLSON PEAK
QUADRANT: NE
WEST_LONGITUDE: -112 48 45.00000
EAST_LONGITUDE: -112 45 0.00000
NORTH_LATITUDE: 47 15 0.00000
SOUTH_LATITUDE: 47 11 15.00000
PRODUCTION_DATE: 1998 12 18
RASTER_ORDER: LEFT_RIGHT/TOP_BOTTOM
BAND_ORGANIZATION: SINGLE FILE
BAND_CONTENT: BLACK&WHITE
BAND_CONTENT: UNDEFINED
BAND_CONTENT: UNDEFINED
BITS_PER_PIXEL: 8
SAMPLES_AND_LINES: 5580 7680
HORIZONTAL_DATUM: NAD83
HORIZONTAL_COORDINATE_SYSTEM: UTM
COORDINATE_ZONE: 12
HORIZONTAL_UNITS: METERS
HORIZONTAL_RESOLUTION: 1.00000
SECONDARY_HORIZONTAL_DATUM: NAD27
XY_ORIGIN: 362310.00000 5234850.00000
SECONDARY_XY_ORIGIN: 362372.23600 5234636.23200
NATION: US
STATE: MT
NW_QUAD_CORNER_XY: 362849.47600 5234539.54700
NE_QUAD_CORNER_XY: 367578.68900 5234431.54800
SE_QUAD_CORNERY_XY: 367422.94200 5227486.13000
SW_QUAD_CORNER_XY: 362688.16400 5227594.14700
SECONDARY_NW_QUAD_XY: 362845.22700 5234320.95500
SECONDARY_NE_QUAD_XY: 367574.58600 5234212.95300
SECONDARY_SE_QUAD_XY: 367418.84000 5227267.56000
SECONDARY_SW_QUAD_XY: 362683.91500 5227375.58000
RMSE_XY: 0.99000
IMAGE_SOURCE: BLACK AND WHITE FILM
SOURCE_IMAGE_ID: NAPP 8386 144
SOURCE_IMAGE_DATE: 1995 08 05
SOURCE_IMAGE_ID: NAPP 9488 19
SOURCE_IMAGE_DATE: 1995 08 27
SOURCE_DEM_DATE: 1958 00 00
AGENCY: WESTERN MAPPING CENTER (WMC)
PRODUCER: ANALYTICAL SURVEYS INC.
PRODUCTION_SYSTEM: ORBIT OR_RECTIFY V.5.2
COMPRESSION: UNDEFINED
STANDARD_VERSION: 1996 12
METADATA_DATE: 1998 12 28
DATA_FILE_SIZE: 42859980
BYTE_COUNT: 5580
